{"text_format":"1","workbook":"xlsx","n_sheets":8,"sheets":["Start Original","Finish Original","Créditos","Start y Finish","Evacuación","Calidad en Salas","Control de Número de Asistentes","Firmas y Control documental"],"not_rendered":{"charts":0,"images":7,"macros":1,"external_links":1,"defined_names":10,"comments":0,"pivot_tables":0},"unopened":[],"bounds":{"document_bytes":16777216,"sheet_cells":100000,"rows_first":2000,"rows_last":500,"rows_between":2000,"halvings":0,"cell_chars":16384,"cell_head_chars":4096},"cells_cut":0,"cells_raw":0,"read":"whole","date_system":"1900"}

{"sheet":"Start Original","index":0,"n_rows":0,"n_cols":0,"rows_kept":0,"cut":false,"hidden":false,"merged":[]}

{"sheet":"Finish Original","index":1,"n_rows":0,"n_cols":0,"rows_kept":0,"cut":false,"hidden":false,"merged":[]}

{"sheet":"Créditos","index":2,"n_rows":109,"n_cols":8,"rows_kept":109,"cut":false,"hidden":false,"merged":[[3,1,3,3],[0,0,2,3]]}
["Inicio de Créditos",null,null,null,null,null,"AVE","Avellaneda"]
[null,null,null,null,null,null,"CAB","Caballito"]
[null,null,null,null,null,null,"LUJ","Luján"]
["Complejo:",{"$f":"IFERROR(VLOOKUP(IF('Start Original'!E3=\"\",\"\",MID('Start Original'!E3,11,3)),$G$1:$H$11,2,FALSE),\"\")","v":""},null,null,null,null,"ARE","Maipú"]
["Semana desde:",null,"hasta:",null,null,null,"MEN","Mendoza"]
[null,null,null,null,null,null,"MER","Merlo"]
["Película","Duración","Inicio\nCréditos","Tiempo Créditos",null,null,"NEU","Neuquén"]
[null,null,null,{"$f":"IF(C8=\"\",\"\",B8-C8)","v":""},null,null,"PIL","Pilar"]
[null,null,null,{"$f":"IF(C9=\"\",\"\",B9-C9)","v":""},null,null,"REC","Recoleta"]
[null,null,null,"",null,null,"ROS","Rosario"]
[null,null,null,""]
[null,null,null,""]
[null,null,null,""]
[null,null,null,""]
[null,null,null,""]
[null,null,null,""]
[null,null,null,""]
[null,null,null,""]
[null,null,null,""]
[null,null,null,""]
[null,null,null,""]
[null,null,null,""]
[null,null,null,""]
[null,null,null,""]
[null,null,null,""]
[null,null,null,""]
[null,null,null,""]
[null,null,null,""]
[null,null,null,""]
[null,null,null,""]
[null,null,null,""]
[null,null,null,""]
[null,null,null,""]
[null,null,null,""]
[null,null,null,""]
[null,null,null,""]
[null,null,null,"",null,""]
[null,null,null,"",null,""]
[null,null,null,"",null,""]
[null,null,null,"",null,""]
[null,null,null,"",null,""]
[null,null,null,"",null,""]
[null,null,null,"",null,""]
[null,null,null,"",null,""]
[null,null,null,"",null,""]
[null,null,null,"",null,""]
[null,null,null,"",null,""]
[null,null,null,"",null,""]
[null,null,null,"",null,""]
[null,null,null,"",null,""]
[null,null,null,"",null,""]
[null,null,null,"",null,""]
[null,null,null,"",null,""]
[null,null,null,"",null,""]
[null,null,null,"",null,""]
[null,null,null,"",null,""]
[null,null,null,"",null,""]
[null,null,null,"",null,""]
[null,null,null,"",null,""]
[null,null,null,"",null,""]
[null,null,null,"",null,""]
[null,null,null,"",null,""]
[null,null,null,"",null,""]
[null,null,null,"",null,""]
[null,null,null,"",null,""]
[null,null,null,"",null,""]
[null,null,null,"",null,""]
[null,null,null,null,null,""]
[null,null,null,null,null,""]
[null,null,null,null,null,""]
[null,null,null,null,null,""]
[null,null,null,null,null,""]
[null,null,null,null,null,""]
[null,null,null,null,null,""]
[null,null,null,null,null,""]
[null,null,null,null,null,""]
[null,null,null,null,null,""]
[null,null,null,null,null,""]
[null,null,null,null,null,""]
[null,null,null,null,null,""]
[null,null,null,null,null,""]
[null,null,null,null,null,""]
[null,null,null,null,null,""]
[null,null,null,null,null,""]
[null,null,null,null,null,""]
[null,null,null,null,null,""]
[null,null,null,null,null,""]
[null,null,null,null,null,""]
[null,null,null,null,null,""]
[null,null,null,null,null,""]
[null,null,null,null,null,""]
[null,null,null,null,null,""]
[null,null,null,null,null,""]
[null,null,null,null,null,""]
[null,null,null,null,null,""]
[null,null,null,null,null,""]
[null,null,null,null,null,""]
[null,null,null,null,null,""]
[null,null,null,null,null,""]
[null,null,null,null,null,""]
[null,null,null,null,null,""]
[null,null,null,null,null,""]
[null,null,null,null,null,""]
[null,null,null,null,null,""]
[null,null,null,null,null,""]
[null,null,null,null,null,""]
[null,null,null,null,null,""]
[null,null,null,null,null,""]
[null,null,null,null,null,""]

{"sheet":"Start y Finish","index":3,"n_rows":114,"n_cols":16,"rows_kept":114,"cut":false,"hidden":false,"merged":[[7,7,7,12],[7,0,7,5],[0,0,4,12],[5,0,5,3],[5,4,5,5],[5,7,5,11]]}
[null,null,null,null,null,null,null,null,null,null,null,null,null,null,"AVE","Avellaneda"]
[null,null,null,null,null,null,null,null,null,null,null,null,null,null,"CAB","Caballito"]
[null,null,null,null,null,null,null,null,null,null,null,null,null,null,"LUJ","Luján"]
[null,null,null,null,null,null,null,null,null,null,null,null,null,null,"ARE","Maipú"]
[null,null,null,null,null,null,null,null,null,null,null,null,null,null,"MEN","Mendoza"]
["Complejo:",null,null,null,{"$f":"IFERROR(VLOOKUP(IF('Start Original'!E3=\"\",\"\",MID('Start Original'!E3,11,3)),$O$1:$P$11,2,FALSE),\"\")","v":""},null,null,"Fecha:",null,null,null,null,{"$f":"IF('Start Original'!A2=\"\",\"\",('Start Original'!A2))","v":""},null,"MER","Merlo"]
[null,null,null,null,null,null,null,null,null,null,null,null,null,null,"NEU","Neuquén"]
["INICIO - START",null,null,null,null,null,null,"FINAL - FINISH",null,null,null,null,null,null,"PIL","Pilar"]
["Inicio Función","Inicio Película","Final Función","Sala","Película","Calif.",null,"Final Película","Tiempo Créditos","Final Función","Inicio Función","Sala","Película",null,"REC","Recoleta"]
[{"$f":"IF('Start Original'!C3=\"\",\"\",'Start Original'!A3)","v":""},{"$f":"IF('Start Original'!D3=\"\",\"\",'Start Original'!B3)","v":""},{"$f":"IF('Start Original'!B3=\"\",\"\",'Start Original'!C3)","v":""},{"$f":"IF('Start Original'!B3=\"\",\"\",IFERROR(IF(OR($E$6=\"Rosario\",$E$6=\"Mendoza\",$E$6=\"Avellaneda\",$E$6=\"Recoleta\"),RIGHT('Start Original'!E3,2),RIGHT('Start Original'!E3,1)),\"\"))","v":""},{"$f":"IF('Start Original'!B3=\"\",\"\",'Start Original'!F3)","v":""},{"$f":"+'Start Original'!I3","v":0},null,{"$f":"IF('Finish Original'!B3=\"\",\"\",J10-I10)","v":""},{"$f":"IF('Finish Original'!B3=\"\",\"\",VLOOKUP(M10,Créditos!$A$8:$D$67,4,FALSE))","v":""},{"$f":"+'Finish Original'!A3","v":"00:00:00"},{"$f":"IF('Finish Original'!B3=\"\",\"\",'Finish Original'!C3)","v":""},{"$f":"IF('Finish Original'!B3=\"\",\"\",IFERROR(IF(OR($E$6=\"Rosario\",$E$6=\"Mendoza\",$E$6=\"Avellaneda\",$E$6=\"Recoleta\"),RIGHT('Finish Original'!E3,2),RIGHT('Finish Original'!E3,1)),\"\"))","v":""},{"$f":"IF('Finish Original'!B3=\"\",\"\",'Finish Original'!F3)","v":""},null,"ROS","Rosario"]
[{"$f":"IF('Start Original'!C4=\"\",\"\",'Start Original'!A4)","v":""},{"$f":"IF('Start Original'!D4=\"\",\"\",'Start Original'!B4)","v":""},{"$f":"IF('Start Original'!B4=\"\",\"\",'Start Original'!C4)","v":""},{"$f":"IF('Start Original'!B4=\"\",\"\",IFERROR(IF(OR($E$6=\"Rosario\",$E$6=\"Mendoza\",$E$6=\"Avellaneda\",$E$6=\"Recoleta\"),RIGHT('Start Original'!E4,2),RIGHT('Start Original'!E4,1)),\"\"))","v":""},{"$f":"IF('Start Original'!B4=\"\",\"\",'Start Original'!F4)","v":""},{"$f":"+'Start Original'!I4","v":0},null,{"$f":"IF('Finish Original'!B4=\"\",\"\",J11-I11)","v":""},{"$f":"IF('Finish Original'!B4=\"\",\"\",VLOOKUP(M11,Créditos!$A$8:$D$67,4,FALSE))","v":""},{"$f":"+'Finish Original'!A4","v":"00:00:00"},{"$f":"IF('Finish Original'!B4=\"\",\"\",'Finish Original'!C4)","v":""},{"$f":"IF('Finish Original'!B4=\"\",\"\",IFERROR(IF(OR($E$6=\"Rosario\",$E$6=\"Mendoza\",$E$6=\"Avellaneda\",$E$6=\"Recoleta\"),RIGHT('Finish Original'!E4,2),RIGHT('Finish Original'!E4,1)),\"\"))","v":""},{"$f":"IF('Finish Original'!B4=\"\",\"\",'Finish Original'!F4)","v":""}]
[{"$f":"IF('Start Original'!C5=\"\",\"\",'Start Original'!A5)","v":""},{"$f":"IF('Start Original'!D5=\"\",\"\",'Start Original'!B5)","v":""},{"$f":"IF('Start Original'!B5=\"\",\"\",'Start Original'!C5)","v":""},{"$f":"IF('Start Original'!B5=\"\",\"\",IFERROR(IF(OR($E$6=\"Rosario\",$E$6=\"Mendoza\",$E$6=\"Avellaneda\",$E$6=\"Recoleta\"),RIGHT('Start Original'!E5,2),RIGHT('Start Original'!E5,1)),\"\"))","v":""},{"$f":"IF('Start Original'!B5=\"\",\"\",'Start Original'!F5)","v":""},{"$f":"+'Start Original'!I5","v":0},null,{"$f":"IF('Finish Original'!B5=\"\",\"\",J12-I12)","v":""},{"$f":"IF('Finish Original'!B5=\"\",\"\",VLOOKUP(M12,Créditos!$A$8:$D$67,4,FALSE))","v":""},{"$f":"+'Finish Original'!A5","v":"00:00:00"},{"$f":"IF('Finish Original'!B5=\"\",\"\",'Finish Original'!C5)","v":""},{"$f":"IF('Finish Original'!B5=\"\",\"\",IFERROR(IF(OR($E$6=\"Rosario\",$E$6=\"Mendoza\",$E$6=\"Avellaneda\",$E$6=\"Recoleta\"),RIGHT('Finish Original'!E5,2),RIGHT('Finish Original'!E5,1)),\"\"))","v":""},{"$f":"IF('Finish Original'!B5=\"\",\"\",'Finish Original'!F5)","v":""}]
[{"$f":"IF('Start Original'!C6=\"\",\"\",'Start Original'!A6)","v":""},{"$f":"IF('Start Original'!D6=\"\",\"\",'Start Original'!B6)","v":""},{"$f":"IF('Start Original'!B6=\"\",\"\",'Start Original'!C6)","v":""},{"$f":"IF('Start Original'!B6=\"\",\"\",IFERROR(IF(OR($E$6=\"Rosario\",$E$6=\"Mendoza\",$E$6=\"Avellaneda\",$E$6=\"Recoleta\"),RIGHT('Start Original'!E6,2),RIGHT('Start Original'!E6,1)),\"\"))","v":""},{"$f":"IF('Start Original'!B6=\"\",\"\",'Start Original'!F6)","v":""},{"$f":"+'Start Original'!I6","v":0},null,{"$f":"IF('Finish Original'!B6=\"\",\"\",J13-I13)","v":""},{"$f":"IF('Finish Original'!B6=\"\",\"\",VLOOKUP(M13,Créditos!$A$8:$D$67,4,FALSE))","v":""},{"$f":"+'Finish Original'!A6","v":"00:00:00"},{"$f":"IF('Finish Original'!B6=\"\",\"\",'Finish Original'!C6)","v":""},{"$f":"IF('Finish Original'!B6=\"\",\"\",IFERROR(IF(OR($E$6=\"Rosario\",$E$6=\"Mendoza\",$E$6=\"Avellaneda\",$E$6=\"Recoleta\"),RIGHT('Finish Original'!E6,2),RIGHT('Finish Original'!E6,1)),\"\"))","v":""},{"$f":"IF('Finish Original'!B6=\"\",\"\",'Finish Original'!F6)","v":""}]
[{"$f":"IF('Start Original'!C7=\"\",\"\",'Start Original'!A7)","v":""},{"$f":"IF('Start Original'!D7=\"\",\"\",'Start Original'!B7)","v":""},{"$f":"IF('Start Original'!B7=\"\",\"\",'Start Original'!C7)","v":""},{"$f":"IF('Start Original'!B7=\"\",\"\",IFERROR(IF(OR($E$6=\"Rosario\",$E$6=\"Mendoza\",$E$6=\"Avellaneda\",$E$6=\"Recoleta\"),RIGHT('Start Original'!E7,2),RIGHT('Start Original'!E7,1)),\"\"))","v":""},{"$f":"IF('Start Original'!B7=\"\",\"\",'Start Original'!F7)","v":""},{"$f":"+'Start Original'!I7","v":0},null,{"$f":"IF('Finish Original'!B7=\"\",\"\",J14-I14)","v":""},{"$f":"IF('Finish Original'!B7=\"\",\"\",VLOOKUP(M14,Créditos!$A$8:$D$67,4,FALSE))","v":""},{"$f":"+'Finish Original'!A7","v":"00:00:00"},{"$f":"IF('Finish Original'!B7=\"\",\"\",'Finish Original'!C7)","v":""},{"$f":"IF('Finish Original'!B7=\"\",\"\",IFERROR(IF(OR($E$6=\"Rosario\",$E$6=\"Mendoza\",$E$6=\"Avellaneda\",$E$6=\"Recoleta\"),RIGHT('Finish Original'!E7,2),RIGHT('Finish Original'!E7,1)),\"\"))","v":""},{"$f":"IF('Finish Original'!B7=\"\",\"\",'Finish Original'!F7)","v":""}]
[{"$f":"IF('Start Original'!C8=\"\",\"\",'Start Original'!A8)","v":""},{"$f":"IF('Start Original'!D8=\"\",\"\",'Start Original'!B8)","v":""},{"$f":"IF('Start Original'!B8=\"\",\"\",'Start Original'!C8)","v":""},{"$f":"IF('Start Original'!B8=\"\",\"\",IFERROR(IF(OR($E$6=\"Rosario\",$E$6=\"Mendoza\",$E$6=\"Avellaneda\",$E$6=\"Recoleta\"),RIGHT('Start Original'!E8,2),RIGHT('Start Original'!E8,1)),\"\"))","v":""},{"$f":"IF('Start Original'!B8=\"\",\"\",'Start Original'!F8)","v":""},{"$f":"+'Start Original'!I8","v":0},null,{"$f":"IF('Finish Original'!B8=\"\",\"\",J15-I15)","v":""},{"$f":"IF('Finish Original'!B8=\"\",\"\",VLOOKUP(M15,Créditos!$A$8:$D$67,4,FALSE))","v":""},{"$f":"+'Finish Original'!A8","v":"00:00:00"},{"$f":"IF('Finish Original'!B8=\"\",\"\",'Finish Original'!C8)","v":""},{"$f":"IF('Finish Original'!B8=\"\",\"\",IFERROR(IF(OR($E$6=\"Rosario\",$E$6=\"Mendoza\",$E$6=\"Avellaneda\",$E$6=\"Recoleta\"),RIGHT('Finish Original'!E8,2),RIGHT('Finish Original'!E8,1)),\"\"))","v":""},{"$f":"IF('Finish Original'!B8=\"\",\"\",'Finish Original'!F8)","v":""}]
[{"$f":"IF('Start Original'!C9=\"\",\"\",'Start Original'!A9)","v":""},{"$f":"IF('Start Original'!D9=\"\",\"\",'Start Original'!B9)","v":""},{"$f":"IF('Start Original'!B9=\"\",\"\",'Start Original'!C9)","v":""},{"$f":"IF('Start Original'!B9=\"\",\"\",IFERROR(IF(OR($E$6=\"Rosario\",$E$6=\"Mendoza\",$E$6=\"Avellaneda\",$E$6=\"Recoleta\"),RIGHT('Start Original'!E9,2),RIGHT('Start Original'!E9,1)),\"\"))","v":""},{"$f":"IF('Start Original'!B9=\"\",\"\",'Start Original'!F9)","v":""},{"$f":"+'Start Original'!I9","v":0},null,{"$f":"IF('Finish Original'!B9=\"\",\"\",J16-I16)","v":""},{"$f":"IF('Finish Original'!B9=\"\",\"\",VLOOKUP(M16,Créditos!$A$8:$D$67,4,FALSE))","v":""},{"$f":"+'Finish Original'!A9","v":"00:00:00"},{"$f":"IF('Finish Original'!B9=\"\",\"\",'Finish Original'!C9)","v":""},{"$f":"IF('Finish Original'!B9=\"\",\"\",IFERROR(IF(OR($E$6=\"Rosario\",$E$6=\"Mendoza\",$E$6=\"Avellaneda\",$E$6=\"Recoleta\"),RIGHT('Finish Original'!E9,2),RIGHT('Finish Original'!E9,1)),\"\"))","v":""},{"$f":"IF('Finish Original'!B9=\"\",\"\",'Finish Original'!F9)","v":""}]
[{"$f":"IF('Start Original'!C10=\"\",\"\",'Start Original'!A10)","v":""},{"$f":"IF('Start Original'!D10=\"\",\"\",'Start Original'!B10)","v":""},{"$f":"IF('Start Original'!B10=\"\",\"\",'Start Original'!C10)","v":""},{"$f":"IF('Start Original'!B10=\"\",\"\",IFERROR(IF(OR($E$6=\"Rosario\",$E$6=\"Mendoza\",$E$6=\"Avellaneda\",$E$6=\"Recoleta\"),RIGHT('Start Original'!E10,2),RIGHT('Start Original'!E10,1)),\"\"))","v":""},{"$f":"IF('Start Original'!B10=\"\",\"\",'Start Original'!F10)","v":""},{"$f":"+'Start Original'!I10","v":0},null,{"$f":"IF('Finish Original'!B10=\"\",\"\",J17-I17)","v":""},{"$f":"IF('Finish Original'!B10=\"\",\"\",VLOOKUP(M17,Créditos!$A$8:$D$67,4,FALSE))","v":""},{"$f":"+'Finish Original'!A10","v":"00:00:00"},{"$f":"IF('Finish Original'!B10=\"\",\"\",'Finish Original'!C10)","v":""},{"$f":"IF('Finish Original'!B10=\"\",\"\",IFERROR(IF(OR($E$6=\"Rosario\",$E$6=\"Mendoza\",$E$6=\"Avellaneda\",$E$6=\"Recoleta\"),RIGHT('Finish Original'!E10,2),RIGHT('Finish Original'!E10,1)),\"\"))","v":""},{"$f":"IF('Finish Original'!B10=\"\",\"\",'Finish Original'!F10)","v":""}]
[{"$f":"IF('Start Original'!C11=\"\",\"\",'Start Original'!A11)","v":""},{"$f":"IF('Start Original'!D11=\"\",\"\",'Start Original'!B11)","v":""},{"$f":"IF('Start Original'!B11=\"\",\"\",'Start Original'!C11)","v":""},{"$f":"IF('Start Original'!B11=\"\",\"\",IFERROR(IF(OR($E$6=\"Rosario\",$E$6=\"Mendoza\",$E$6=\"Avellaneda\",$E$6=\"Recoleta\"),RIGHT('Start Original'!E11,2),RIGHT('Start Original'!E11,1)),\"\"))","v":""},{"$f":"IF('Start Original'!B11=\"\",\"\",'Start Original'!F11)","v":""},{"$f":"+'Start Original'!I11","v":0},null,{"$f":"IF('Finish Original'!B11=\"\",\"\",J18-I18)","v":""},{"$f":"IF('Finish Original'!B11=\"\",\"\",VLOOKUP(M18,Créditos!$A$8:$D$67,4,FALSE))","v":""},{"$f":"+'Finish Original'!A11","v":"00:00:00"},{"$f":"IF('Finish Original'!B11=\"\",\"\",'Finish Original'!C11)","v":""},{"$f":"IF('Finish Original'!B11=\"\",\"\",IFERROR(IF(OR($E$6=\"Rosario\",$E$6=\"Mendoza\",$E$6=\"Avellaneda\",$E$6=\"Recoleta\"),RIGHT('Finish Original'!E11,2),RIGHT('Finish Original'!E11,1)),\"\"))","v":""},{"$f":"IF('Finish Original'!B11=\"\",\"\",'Finish Original'!F11)","v":""}]
[{"$f":"IF('Start Original'!C12=\"\",\"\",'Start Original'!A12)","v":""},{"$f":"IF('Start Original'!D12=\"\",\"\",'Start Original'!B12)","v":""},{"$f":"IF('Start Original'!B12=\"\",\"\",'Start Original'!C12)","v":""},{"$f":"IF('Start Original'!B12=\"\",\"\",IFERROR(IF(OR($E$6=\"Rosario\",$E$6=\"Mendoza\",$E$6=\"Avellaneda\",$E$6=\"Recoleta\"),RIGHT('Start Original'!E12,2),RIGHT('Start Original'!E12,1)),\"\"))","v":""},{"$f":"IF('Start Original'!B12=\"\",\"\",'Start Original'!F12)","v":""},{"$f":"+'Start Original'!I12","v":0},null,{"$f":"IF('Finish Original'!B12=\"\",\"\",J19-I19)","v":""},{"$f":"IF('Finish Original'!B12=\"\",\"\",VLOOKUP(M19,Créditos!$A$8:$D$67,4,FALSE))","v":""},{"$f":"+'Finish Original'!A12","v":"00:00:00"},{"$f":"IF('Finish Original'!B12=\"\",\"\",'Finish Original'!C12)","v":""},{"$f":"IF('Finish Original'!B12=\"\",\"\",IFERROR(IF(OR($E$6=\"Rosario\",$E$6=\"Mendoza\",$E$6=\"Avellaneda\",$E$6=\"Recoleta\"),RIGHT('Finish Original'!E12,2),RIGHT('Finish Original'!E12,1)),\"\"))","v":""},{"$f":"IF('Finish Original'!B12=\"\",\"\",'Finish Original'!F12)","v":""}]
[{"$f":"IF('Start Original'!C13=\"\",\"\",'Start Original'!A13)","v":""},{"$f":"IF('Start Original'!D13=\"\",\"\",'Start Original'!B13)","v":""},{"$f":"IF('Start Original'!B13=\"\",\"\",'Start Original'!C13)","v":""},{"$f":"IF('Start Original'!B13=\"\",\"\",IFERROR(IF(OR($E$6=\"Rosario\",$E$6=\"Mendoza\",$E$6=\"Avellaneda\",$E$6=\"Recoleta\"),RIGHT('Start Original'!E13,2),RIGHT('Start Original'!E13,1)),\"\"))","v":""},{"$f":"IF('Start Original'!B13=\"\",\"\",'Start Original'!F13)","v":""},{"$f":"+'Start Original'!I13","v":0},null,{"$f":"IF('Finish Original'!B13=\"\",\"\",J20-I20)","v":""},{"$f":"IF('Finish Original'!B13=\"\",\"\",VLOOKUP(M20,Créditos!$A$8:$D$67,4,FALSE))","v":""},{"$f":"+'Finish Original'!A13","v":"00:00:00"},{"$f":"IF('Finish Original'!B13=\"\",\"\",'Finish Original'!C13)","v":""},{"$f":"IF('Finish Original'!B13=\"\",\"\",IFERROR(IF(OR($E$6=\"Rosario\",$E$6=\"Mendoza\",$E$6=\"Avellaneda\",$E$6=\"Recoleta\"),RIGHT('Finish Original'!E13,2),RIGHT('Finish Original'!E13,1)),\"\"))","v":""},{"$f":"IF('Finish Original'!B13=\"\",\"\",'Finish Original'!F13)","v":""}]
[{"$f":"IF('Start Original'!C14=\"\",\"\",'Start Original'!A14)","v":""},{"$f":"IF('Start Original'!D14=\"\",\"\",'Start Original'!B14)","v":""},{"$f":"IF('Start Original'!B14=\"\",\"\",'Start Original'!C14)","v":""},{"$f":"IF('Start Original'!B14=\"\",\"\",IFERROR(IF(OR($E$6=\"Rosario\",$E$6=\"Mendoza\",$E$6=\"Avellaneda\",$E$6=\"Recoleta\"),RIGHT('Start Original'!E14,2),RIGHT('Start Original'!E14,1)),\"\"))","v":""},{"$f":"IF('Start Original'!B14=\"\",\"\",'Start Original'!F14)","v":""},{"$f":"+'Start Original'!I14","v":0},null,{"$f":"IF('Finish Original'!B14=\"\",\"\",J21-I21)","v":""},{"$f":"IF('Finish Original'!B14=\"\",\"\",VLOOKUP(M21,Créditos!$A$8:$D$67,4,FALSE))","v":""},{"$f":"+'Finish Original'!A14","v":"00:00:00"},{"$f":"IF('Finish Original'!B14=\"\",\"\",'Finish Original'!C14)","v":""},{"$f":"IF('Finish Original'!B14=\"\",\"\",IFERROR(IF(OR($E$6=\"Rosario\",$E$6=\"Mendoza\",$E$6=\"Avellaneda\",$E$6=\"Recoleta\"),RIGHT('Finish Original'!E14,2),RIGHT('Finish Original'!E14,1)),\"\"))","v":""},{"$f":"IF('Finish Original'!B14=\"\",\"\",'Finish Original'!F14)","v":""}]
[{"$f":"IF('Start Original'!C15=\"\",\"\",'Start Original'!A15)","v":""},{"$f":"IF('Start Original'!D15=\"\",\"\",'Start Original'!B15)","v":""},{"$f":"IF('Start Original'!B15=\"\",\"\",'Start Original'!C15)","v":""},{"$f":"IF('Start Original'!B15=\"\",\"\",IFERROR(IF(OR($E$6=\"Rosario\",$E$6=\"Mendoza\",$E$6=\"Avellaneda\",$E$6=\"Recoleta\"),RIGHT('Start Original'!E15,2),RIGHT('Start Original'!E15,1)),\"\"))","v":""},{"$f":"IF('Start Original'!B15=\"\",\"\",'Start Original'!F15)","v":""},{"$f":"+'Start Original'!I15","v":0},null,{"$f":"IF('Finish Original'!B15=\"\",\"\",J22-I22)","v":""},{"$f":"IF('Finish Original'!B15=\"\",\"\",VLOOKUP(M22,Créditos!$A$8:$D$67,4,FALSE))","v":""},{"$f":"+'Finish Original'!A15","v":"00:00:00"},{"$f":"IF('Finish Original'!B15=\"\",\"\",'Finish Original'!C15)","v":""},{"$f":"IF('Finish Original'!B15=\"\",\"\",IFERROR(IF(OR($E$6=\"Rosario\",$E$6=\"Mendoza\",$E$6=\"Avellaneda\",$E$6=\"Recoleta\"),RIGHT('Finish Original'!E15,2),RIGHT('Finish Original'!E15,1)),\"\"))","v":""},{"$f":"IF('Finish Original'!B15=\"\",\"\",'Finish Original'!F15)","v":""}]
[{"$f":"IF('Start Original'!C16=\"\",\"\",'Start Original'!A16)","v":""},{"$f":"IF('Start Original'!D16=\"\",\"\",'Start Original'!B16)","v":""},{"$f":"IF('Start Original'!B16=\"\",\"\",'Start Original'!C16)","v":""},{"$f":"IF('Start Original'!B16=\"\",\"\",IFERROR(IF(OR($E$6=\"Rosario\",$E$6=\"Mendoza\",$E$6=\"Avellaneda\",$E$6=\"Recoleta\"),RIGHT('Start Original'!E16,2),RIGHT('Start Original'!E16,1)),\"\"))","v":""},{"$f":"IF('Start Original'!B16=\"\",\"\",'Start Original'!F16)","v":""},{"$f":"+'Start Original'!I16","v":0},null,{"$f":"IF('Finish Original'!B16=\"\",\"\",J23-I23)","v":""},{"$f":"IF('Finish Original'!B16=\"\",\"\",VLOOKUP(M23,Créditos!$A$8:$D$67,4,FALSE))","v":""},{"$f":"+'Finish Original'!A16","v":"00:00:00"},{"$f":"IF('Finish Original'!B16=\"\",\"\",'Finish Original'!C16)","v":""},{"$f":"IF('Finish Original'!B16=\"\",\"\",IFERROR(IF(OR($E$6=\"Rosario\",$E$6=\"Mendoza\",$E$6=\"Avellaneda\",$E$6=\"Recoleta\"),RIGHT('Finish Original'!E16,2),RIGHT('Finish Original'!E16,1)),\"\"))","v":""},{"$f":"IF('Finish Original'!B16=\"\",\"\",'Finish Original'!F16)","v":""}]
[{"$f":"IF('Start Original'!C17=\"\",\"\",'Start Original'!A17)","v":""},{"$f":"IF('Start Original'!D17=\"\",\"\",'Start Original'!B17)","v":""},{"$f":"IF('Start Original'!B17=\"\",\"\",'Start Original'!C17)","v":""},{"$f":"IF('Start Original'!B17=\"\",\"\",IFERROR(IF(OR($E$6=\"Rosario\",$E$6=\"Mendoza\",$E$6=\"Avellaneda\",$E$6=\"Recoleta\"),RIGHT('Start Original'!E17,2),RIGHT('Start Original'!E17,1)),\"\"))","v":""},{"$f":"IF('Start Original'!B17=\"\",\"\",'Start Original'!F17)","v":""},{"$f":"+'Start Original'!I17","v":0},null,{"$f":"IF('Finish Original'!B17=\"\",\"\",J24-I24)","v":""},{"$f":"IF('Finish Original'!B17=\"\",\"\",VLOOKUP(M24,Créditos!$A$8:$D$67,4,FALSE))","v":""},{"$f":"+'Finish Original'!A17","v":"00:00:00"},{"$f":"IF('Finish Original'!B17=\"\",\"\",'Finish Original'!C17)","v":""},{"$f":"IF('Finish Original'!B17=\"\",\"\",IFERROR(IF(OR($E$6=\"Rosario\",$E$6=\"Mendoza\",$E$6=\"Avellaneda\",$E$6=\"Recoleta\"),RIGHT('Finish Original'!E17,2),RIGHT('Finish Original'!E17,1)),\"\"))","v":""},{"$f":"IF('Finish Original'!B17=\"\",\"\",'Finish Original'!F17)","v":""}]
[{"$f":"IF('Start Original'!C18=\"\",\"\",'Start Original'!A18)","v":""},{"$f":"IF('Start Original'!D18=\"\",\"\",'Start Original'!B18)","v":""},{"$f":"IF('Start Original'!B18=\"\",\"\",'Start Original'!C18)","v":""},{"$f":"IF('Start Original'!B18=\"\",\"\",IFERROR(IF(OR($E$6=\"Rosario\",$E$6=\"Mendoza\",$E$6=\"Avellaneda\",$E$6=\"Recoleta\"),RIGHT('Start Original'!E18,2),RIGHT('Start Original'!E18,1)),\"\"))","v":""},{"$f":"IF('Start Original'!B18=\"\",\"\",'Start Original'!F18)","v":""},{"$f":"+'Start Original'!I18","v":0},null,{"$f":"IF('Finish Original'!B18=\"\",\"\",J25-I25)","v":""},{"$f":"IF('Finish Original'!B18=\"\",\"\",VLOOKUP(M25,Créditos!$A$8:$D$67,4,FALSE))","v":""},{"$f":"+'Finish Original'!A18","v":"00:00:00"},{"$f":"IF('Finish Original'!B18=\"\",\"\",'Finish Original'!C18)","v":""},{"$f":"IF('Finish Original'!B18=\"\",\"\",IFERROR(IF(OR($E$6=\"Rosario\",$E$6=\"Mendoza\",$E$6=\"Avellaneda\",$E$6=\"Recoleta\"),RIGHT('Finish Original'!E18,2),RIGHT('Finish Original'!E18,1)),\"\"))","v":""},{"$f":"IF('Finish Original'!B18=\"\",\"\",'Finish Original'!F18)","v":""}]
[{"$f":"IF('Start Original'!C19=\"\",\"\",'Start Original'!A19)","v":""},{"$f":"IF('Start Original'!D19=\"\",\"\",'Start Original'!B19)","v":""},{"$f":"IF('Start Original'!B19=\"\",\"\",'Start Original'!C19)","v":""},{"$f":"IF('Start Original'!B19=\"\",\"\",IFERROR(IF(OR($E$6=\"Rosario\",$E$6=\"Mendoza\",$E$6=\"Avellaneda\",$E$6=\"Recoleta\"),RIGHT('Start Original'!E19,2),RIGHT('Start Original'!E19,1)),\"\"))","v":""},{"$f":"IF('Start Original'!B19=\"\",\"\",'Start Original'!F19)","v":""},{"$f":"+'Start Original'!I19","v":0},null,{"$f":"IF('Finish Original'!B19=\"\",\"\",J26-I26)","v":""},{"$f":"IF('Finish Original'!B19=\"\",\"\",VLOOKUP(M26,Créditos!$A$8:$D$67,4,FALSE))","v":""},{"$f":"+'Finish Original'!A19","v":"00:00:00"},{"$f":"IF('Finish Original'!B19=\"\",\"\",'Finish Original'!C19)","v":""},{"$f":"IF('Finish Original'!B19=\"\",\"\",IFERROR(IF(OR($E$6=\"Rosario\",$E$6=\"Mendoza\",$E$6=\"Avellaneda\",$E$6=\"Recoleta\"),RIGHT('Finish Original'!E19,2),RIGHT('Finish Original'!E19,1)),\"\"))","v":""},{"$f":"IF('Finish Original'!B19=\"\",\"\",'Finish Original'!F19)","v":""}]
[{"$f":"IF('Start Original'!C20=\"\",\"\",'Start Original'!A20)","v":""},{"$f":"IF('Start Original'!D20=\"\",\"\",'Start Original'!B20)","v":""},{"$f":"IF('Start Original'!B20=\"\",\"\",'Start Original'!C20)","v":""},{"$f":"IF('Start Original'!B20=\"\",\"\",IFERROR(IF(OR($E$6=\"Rosario\",$E$6=\"Mendoza\",$E$6=\"Avellaneda\",$E$6=\"Recoleta\"),RIGHT('Start Original'!E20,2),RIGHT('Start Original'!E20,1)),\"\"))","v":""},{"$f":"IF('Start Original'!B20=\"\",\"\",'Start Original'!F20)","v":""},{"$f":"+'Start Original'!I20","v":0},null,{"$f":"IF('Finish Original'!B20=\"\",\"\",J27-I27)","v":""},{"$f":"IF('Finish Original'!B20=\"\",\"\",VLOOKUP(M27,Créditos!$A$8:$D$67,4,FALSE))","v":""},{"$f":"+'Finish Original'!A20","v":"00:00:00"},{"$f":"IF('Finish Original'!B20=\"\",\"\",'Finish Original'!C20)","v":""},{"$f":"IF('Finish Original'!B20=\"\",\"\",IFERROR(IF(OR($E$6=\"Rosario\",$E$6=\"Mendoza\",$E$6=\"Avellaneda\",$E$6=\"Recoleta\"),RIGHT('Finish Original'!E20,2),RIGHT('Finish Original'!E20,1)),\"\"))","v":""},{"$f":"IF('Finish Original'!B20=\"\",\"\",'Finish Original'!F20)","v":""}]
[{"$f":"IF('Start Original'!C21=\"\",\"\",'Start Original'!A21)","v":""},{"$f":"IF('Start Original'!D21=\"\",\"\",'Start Original'!B21)","v":""},{"$f":"IF('Start Original'!B21=\"\",\"\",'Start Original'!C21)","v":""},{"$f":"IF('Start Original'!B21=\"\",\"\",IFERROR(IF(OR($E$6=\"Rosario\",$E$6=\"Mendoza\",$E$6=\"Avellaneda\",$E$6=\"Recoleta\"),RIGHT('Start Original'!E21,2),RIGHT('Start Original'!E21,1)),\"\"))","v":""},{"$f":"IF('Start Original'!B21=\"\",\"\",'Start Original'!F21)","v":""},{"$f":"+'Start Original'!I21","v":0},null,{"$f":"IF('Finish Original'!B21=\"\",\"\",J28-I28)","v":""},{"$f":"IF('Finish Original'!B21=\"\",\"\",VLOOKUP(M28,Créditos!$A$8:$D$67,4,FALSE))","v":""},{"$f":"+'Finish Original'!A21","v":"00:00:00"},{"$f":"IF('Finish Original'!B21=\"\",\"\",'Finish Original'!C21)","v":""},{"$f":"IF('Finish Original'!B21=\"\",\"\",IFERROR(IF(OR($E$6=\"Rosario\",$E$6=\"Mendoza\",$E$6=\"Avellaneda\",$E$6=\"Recoleta\"),RIGHT('Finish Original'!E21,2),RIGHT('Finish Original'!E21,1)),\"\"))","v":""},{"$f":"IF('Finish Original'!B21=\"\",\"\",'Finish Original'!F21)","v":""}]
[{"$f":"IF('Start Original'!C22=\"\",\"\",'Start Original'!A22)","v":""},{"$f":"IF('Start Original'!D22=\"\",\"\",'Start Original'!B22)","v":""},{"$f":"IF('Start Original'!B22=\"\",\"\",'Start Original'!C22)","v":""},{"$f":"IF('Start Original'!B22=\"\",\"\",IFERROR(IF(OR($E$6=\"Rosario\",$E$6=\"Mendoza\",$E$6=\"Avellaneda\",$E$6=\"Recoleta\"),RIGHT('Start Original'!E22,2),RIGHT('Start Original'!E22,1)),\"\"))","v":""},{"$f":"IF('Start Original'!B22=\"\",\"\",'Start Original'!F22)","v":""},{"$f":"+'Start Original'!I22","v":0},null,{"$f":"IF('Finish Original'!B22=\"\",\"\",J29-I29)","v":""},{"$f":"IF('Finish Original'!B22=\"\",\"\",VLOOKUP(M29,Créditos!$A$8:$D$67,4,FALSE))","v":""},{"$f":"+'Finish Original'!A22","v":"00:00:00"},{"$f":"IF('Finish Original'!B22=\"\",\"\",'Finish Original'!C22)","v":""},{"$f":"IF('Finish Original'!B22=\"\",\"\",IFERROR(IF(OR($E$6=\"Rosario\",$E$6=\"Mendoza\",$E$6=\"Avellaneda\",$E$6=\"Recoleta\"),RIGHT('Finish Original'!E22,2),RIGHT('Finish Original'!E22,1)),\"\"))","v":""},{"$f":"IF('Finish Original'!B22=\"\",\"\",'Finish Original'!F22)","v":""}]
[{"$f":"IF('Start Original'!C23=\"\",\"\",'Start Original'!A23)","v":""},{"$f":"IF('Start Original'!D23=\"\",\"\",'Start Original'!B23)","v":""},{"$f":"IF('Start Original'!B23=\"\",\"\",'Start Original'!C23)","v":""},{"$f":"IF('Start Original'!B23=\"\",\"\",IFERROR(IF(OR($E$6=\"Rosario\",$E$6=\"Mendoza\",$E$6=\"Avellaneda\",$E$6=\"Recoleta\"),RIGHT('Start Original'!E23,2),RIGHT('Start Original'!E23,1)),\"\"))","v":""},{"$f":"IF('Start Original'!B23=\"\",\"\",'Start Original'!F23)","v":""},{"$f":"+'Start Original'!I23","v":0},null,{"$f":"IF('Finish Original'!B23=\"\",\"\",J30-I30)","v":""},{"$f":"IF('Finish Original'!B23=\"\",\"\",VLOOKUP(M30,Créditos!$A$8:$D$67,4,FALSE))","v":""},{"$f":"+'Finish Original'!A23","v":"00:00:00"},{"$f":"IF('Finish Original'!B23=\"\",\"\",'Finish Original'!C23)","v":""},{"$f":"IF('Finish Original'!B23=\"\",\"\",IFERROR(IF(OR($E$6=\"Rosario\",$E$6=\"Mendoza\",$E$6=\"Avellaneda\",$E$6=\"Recoleta\"),RIGHT('Finish Original'!E23,2),RIGHT('Finish Original'!E23,1)),\"\"))","v":""},{"$f":"IF('Finish Original'!B23=\"\",\"\",'Finish Original'!F23)","v":""}]
[{"$f":"IF('Start Original'!C24=\"\",\"\",'Start Original'!A24)","v":""},{"$f":"IF('Start Original'!D24=\"\",\"\",'Start Original'!B24)","v":""},{"$f":"IF('Start Original'!B24=\"\",\"\",'Start Original'!C24)","v":""},{"$f":"IF('Start Original'!B24=\"\",\"\",IFERROR(IF(OR($E$6=\"Rosario\",$E$6=\"Mendoza\",$E$6=\"Avellaneda\",$E$6=\"Recoleta\"),RIGHT('Start Original'!E24,2),RIGHT('Start Original'!E24,1)),\"\"))","v":""},{"$f":"IF('Start Original'!B24=\"\",\"\",'Start Original'!F24)","v":""},{"$f":"+'Start Original'!I24","v":0},null,{"$f":"IF('Finish Original'!B24=\"\",\"\",J31-I31)","v":""},{"$f":"IF('Finish Original'!B24=\"\",\"\",VLOOKUP(M31,Créditos!$A$8:$D$67,4,FALSE))","v":""},{"$f":"+'Finish Original'!A24","v":"00:00:00"},{"$f":"IF('Finish Original'!B24=\"\",\"\",'Finish Original'!C24)","v":""},{"$f":"IF('Finish Original'!B24=\"\",\"\",IFERROR(IF(OR($E$6=\"Rosario\",$E$6=\"Mendoza\",$E$6=\"Avellaneda\",$E$6=\"Recoleta\"),RIGHT('Finish Original'!E24,2),RIGHT('Finish Original'!E24,1)),\"\"))","v":""},{"$f":"IF('Finish Original'!B24=\"\",\"\",'Finish Original'!F24)","v":""}]
[{"$f":"IF('Start Original'!C25=\"\",\"\",'Start Original'!A25)","v":""},{"$f":"IF('Start Original'!D25=\"\",\"\",'Start Original'!B25)","v":""},{"$f":"IF('Start Original'!B25=\"\",\"\",'Start Original'!C25)","v":""},{"$f":"IF('Start Original'!B25=\"\",\"\",IFERROR(IF(OR($E$6=\"Rosario\",$E$6=\"Mendoza\",$E$6=\"Avellaneda\",$E$6=\"Recoleta\"),RIGHT('Start Original'!E25,2),RIGHT('Start Original'!E25,1)),\"\"))","v":""},{"$f":"IF('Start Original'!B25=\"\",\"\",'Start Original'!F25)","v":""},{"$f":"+'Start Original'!I25","v":0},null,{"$f":"IF('Finish Original'!B25=\"\",\"\",J32-I32)","v":""},{"$f":"IF('Finish Original'!B25=\"\",\"\",VLOOKUP(M32,Créditos!$A$8:$D$67,4,FALSE))","v":""},{"$f":"+'Finish Original'!A25","v":"00:00:00"},{"$f":"IF('Finish Original'!B25=\"\",\"\",'Finish Original'!C25)","v":""},{"$f":"IF('Finish Original'!B25=\"\",\"\",IFERROR(IF(OR($E$6=\"Rosario\",$E$6=\"Mendoza\",$E$6=\"Avellaneda\",$E$6=\"Recoleta\"),RIGHT('Finish Original'!E25,2),RIGHT('Finish Original'!E25,1)),\"\"))","v":""},{"$f":"IF('Finish Original'!B25=\"\",\"\",'Finish Original'!F25)","v":""}]
[{"$f":"IF('Start Original'!C26=\"\",\"\",'Start Original'!A26)","v":""},{"$f":"IF('Start Original'!D26=\"\",\"\",'Start Original'!B26)","v":""},{"$f":"IF('Start Original'!B26=\"\",\"\",'Start Original'!C26)","v":""},{"$f":"IF('Start Original'!B26=\"\",\"\",IFERROR(IF(OR($E$6=\"Rosario\",$E$6=\"Mendoza\",$E$6=\"Avellaneda\",$E$6=\"Recoleta\"),RIGHT('Start Original'!E26,2),RIGHT('Start Original'!E26,1)),\"\"))","v":""},{"$f":"IF('Start Original'!B26=\"\",\"\",'Start Original'!F26)","v":""},{"$f":"+'Start Original'!I26","v":0},null,{"$f":"IF('Finish Original'!B26=\"\",\"\",J33-I33)","v":""},{"$f":"IF('Finish Original'!B26=\"\",\"\",VLOOKUP(M33,Créditos!$A$8:$D$67,4,FALSE))","v":""},{"$f":"+'Finish Original'!A26","v":"00:00:00"},{"$f":"IF('Finish Original'!B26=\"\",\"\",'Finish Original'!C26)","v":""},{"$f":"IF('Finish Original'!B26=\"\",\"\",IFERROR(IF(OR($E$6=\"Rosario\",$E$6=\"Mendoza\",$E$6=\"Avellaneda\",$E$6=\"Recoleta\"),RIGHT('Finish Original'!E26,2),RIGHT('Finish Original'!E26,1)),\"\"))","v":""},{"$f":"IF('Finish Original'!B26=\"\",\"\",'Finish Original'!F26)","v":""}]
[{"$f":"IF('Start Original'!C27=\"\",\"\",'Start Original'!A27)","v":""},{"$f":"IF('Start Original'!D27=\"\",\"\",'Start Original'!B27)","v":""},{"$f":"IF('Start Original'!B27=\"\",\"\",'Start Original'!C27)","v":""},{"$f":"IF('Start Original'!B27=\"\",\"\",IFERROR(IF(OR($E$6=\"Rosario\",$E$6=\"Mendoza\",$E$6=\"Avellaneda\",$E$6=\"Recoleta\"),RIGHT('Start Original'!E27,2),RIGHT('Start Original'!E27,1)),\"\"))","v":""},{"$f":"IF('Start Original'!B27=\"\",\"\",'Start Original'!F27)","v":""},{"$f":"+'Start Original'!I27","v":0},null,{"$f":"IF('Finish Original'!B27=\"\",\"\",J34-I34)","v":""},{"$f":"IF('Finish Original'!B27=\"\",\"\",VLOOKUP(M34,Créditos!$A$8:$D$67,4,FALSE))","v":""},{"$f":"+'Finish Original'!A27","v":"00:00:00"},{"$f":"IF('Finish Original'!B27=\"\",\"\",'Finish Original'!C27)","v":""},{"$f":"IF('Finish Original'!B27=\"\",\"\",IFERROR(IF(OR($E$6=\"Rosario\",$E$6=\"Mendoza\",$E$6=\"Avellaneda\",$E$6=\"Recoleta\"),RIGHT('Finish Original'!E27,2),RIGHT('Finish Original'!E27,1)),\"\"))","v":""},{"$f":"IF('Finish Original'!B27=\"\",\"\",'Finish Original'!F27)","v":""}]
[{"$f":"IF('Start Original'!C28=\"\",\"\",'Start Original'!A28)","v":""},{"$f":"IF('Start Original'!D28=\"\",\"\",'Start Original'!B28)","v":""},{"$f":"IF('Start Original'!B28=\"\",\"\",'Start Original'!C28)","v":""},{"$f":"IF('Start Original'!B28=\"\",\"\",IFERROR(IF(OR($E$6=\"Rosario\",$E$6=\"Mendoza\",$E$6=\"Avellaneda\",$E$6=\"Recoleta\"),RIGHT('Start Original'!E28,2),RIGHT('Start Original'!E28,1)),\"\"))","v":""},{"$f":"IF('Start Original'!B28=\"\",\"\",'Start Original'!F28)","v":""},{"$f":"+'Start Original'!I28","v":0},null,{"$f":"IF('Finish Original'!B28=\"\",\"\",J35-I35)","v":""},{"$f":"IF('Finish Original'!B28=\"\",\"\",VLOOKUP(M35,Créditos!$A$8:$D$67,4,FALSE))","v":""},{"$f":"+'Finish Original'!A28","v":"00:00:00"},{"$f":"IF('Finish Original'!B28=\"\",\"\",'Finish Original'!C28)","v":""},{"$f":"IF('Finish Original'!B28=\"\",\"\",IFERROR(IF(OR($E$6=\"Rosario\",$E$6=\"Mendoza\",$E$6=\"Avellaneda\",$E$6=\"Recoleta\"),RIGHT('Finish Original'!E28,2),RIGHT('Finish Original'!E28,1)),\"\"))","v":""},{"$f":"IF('Finish Original'!B28=\"\",\"\",'Finish Original'!F28)","v":""}]
[{"$f":"IF('Start Original'!C29=\"\",\"\",'Start Original'!A29)","v":""},{"$f":"IF('Start Original'!D29=\"\",\"\",'Start Original'!B29)","v":""},{"$f":"IF('Start Original'!B29=\"\",\"\",'Start Original'!C29)","v":""},{"$f":"IF('Start Original'!B29=\"\",\"\",IFERROR(IF(OR($E$6=\"Rosario\",$E$6=\"Mendoza\",$E$6=\"Avellaneda\",$E$6=\"Recoleta\"),RIGHT('Start Original'!E29,2),RIGHT('Start Original'!E29,1)),\"\"))","v":""},{"$f":"IF('Start Original'!B29=\"\",\"\",'Start Original'!F29)","v":""},{"$f":"+'Start Original'!I29","v":0},null,{"$f":"IF('Finish Original'!B29=\"\",\"\",J36-I36)","v":""},{"$f":"IF('Finish Original'!B29=\"\",\"\",VLOOKUP(M36,Créditos!$A$8:$D$67,4,FALSE))","v":""},{"$f":"+'Finish Original'!A29","v":"00:00:00"},{"$f":"IF('Finish Original'!B29=\"\",\"\",'Finish Original'!C29)","v":""},{"$f":"IF('Finish Original'!B29=\"\",\"\",IFERROR(IF(OR($E$6=\"Rosario\",$E$6=\"Mendoza\",$E$6=\"Avellaneda\",$E$6=\"Recoleta\"),RIGHT('Finish Original'!E29,2),RIGHT('Finish Original'!E29,1)),\"\"))","v":""},{"$f":"IF('Finish Original'!B29=\"\",\"\",'Finish Original'!F29)","v":""}]
[{"$f":"IF('Start Original'!C30=\"\",\"\",'Start Original'!A30)","v":""},{"$f":"IF('Start Original'!D30=\"\",\"\",'Start Original'!B30)","v":""},{"$f":"IF('Start Original'!B30=\"\",\"\",'Start Original'!C30)","v":""},{"$f":"IF('Start Original'!B30=\"\",\"\",IFERROR(IF(OR($E$6=\"Rosario\",$E$6=\"Mendoza\",$E$6=\"Avellaneda\",$E$6=\"Recoleta\"),RIGHT('Start Original'!E30,2),RIGHT('Start Original'!E30,1)),\"\"))","v":""},{"$f":"IF('Start Original'!B30=\"\",\"\",'Start Original'!F30)","v":""},{"$f":"+'Start Original'!I30","v":0},null,{"$f":"IF('Finish Original'!B30=\"\",\"\",J37-I37)","v":""},{"$f":"IF('Finish Original'!B30=\"\",\"\",VLOOKUP(M37,Créditos!$A$8:$D$67,4,FALSE))","v":""},{"$f":"+'Finish Original'!A30","v":"00:00:00"},{"$f":"IF('Finish Original'!B30=\"\",\"\",'Finish Original'!C30)","v":""},{"$f":"IF('Finish Original'!B30=\"\",\"\",IFERROR(IF(OR($E$6=\"Rosario\",$E$6=\"Mendoza\",$E$6=\"Avellaneda\",$E$6=\"Recoleta\"),RIGHT('Finish Original'!E30,2),RIGHT('Finish Original'!E30,1)),\"\"))","v":""},{"$f":"IF('Finish Original'!B30=\"\",\"\",'Finish Original'!F30)","v":""}]
[{"$f":"IF('Start Original'!C31=\"\",\"\",'Start Original'!A31)","v":""},{"$f":"IF('Start Original'!D31=\"\",\"\",'Start Original'!B31)","v":""},{"$f":"IF('Start Original'!B31=\"\",\"\",'Start Original'!C31)","v":""},{"$f":"IF('Start Original'!B31=\"\",\"\",IFERROR(IF(OR($E$6=\"Rosario\",$E$6=\"Mendoza\",$E$6=\"Avellaneda\",$E$6=\"Recoleta\"),RIGHT('Start Original'!E31,2),RIGHT('Start Original'!E31,1)),\"\"))","v":""},{"$f":"IF('Start Original'!B31=\"\",\"\",'Start Original'!F31)","v":""},{"$f":"+'Start Original'!I31","v":0},null,{"$f":"IF('Finish Original'!B31=\"\",\"\",J38-I38)","v":""},{"$f":"IF('Finish Original'!B31=\"\",\"\",VLOOKUP(M38,Créditos!$A$8:$D$67,4,FALSE))","v":""},{"$f":"+'Finish Original'!A31","v":"00:00:00"},{"$f":"IF('Finish Original'!B31=\"\",\"\",'Finish Original'!C31)","v":""},{"$f":"IF('Finish Original'!B31=\"\",\"\",IFERROR(IF(OR($E$6=\"Rosario\",$E$6=\"Mendoza\",$E$6=\"Avellaneda\",$E$6=\"Recoleta\"),RIGHT('Finish Original'!E31,2),RIGHT('Finish Original'!E31,1)),\"\"))","v":""},{"$f":"IF('Finish Original'!B31=\"\",\"\",'Finish Original'!F31)","v":""}]
[{"$f":"IF('Start Original'!C32=\"\",\"\",'Start Original'!A32)","v":""},{"$f":"IF('Start Original'!D32=\"\",\"\",'Start Original'!B32)","v":""},{"$f":"IF('Start Original'!B32=\"\",\"\",'Start Original'!C32)","v":""},{"$f":"IF('Start Original'!B32=\"\",\"\",IFERROR(IF(OR($E$6=\"Rosario\",$E$6=\"Mendoza\",$E$6=\"Avellaneda\",$E$6=\"Recoleta\"),RIGHT('Start Original'!E32,2),RIGHT('Start Original'!E32,1)),\"\"))","v":""},{"$f":"IF('Start Original'!B32=\"\",\"\",'Start Original'!F32)","v":""},{"$f":"+'Start Original'!I32","v":0},null,{"$f":"IF('Finish Original'!B32=\"\",\"\",J39-I39)","v":""},{"$f":"IF('Finish Original'!B32=\"\",\"\",VLOOKUP(M39,Créditos!$A$8:$D$67,4,FALSE))","v":""},{"$f":"+'Finish Original'!A32","v":"00:00:00"},{"$f":"IF('Finish Original'!B32=\"\",\"\",'Finish Original'!C32)","v":""},{"$f":"IF('Finish Original'!B32=\"\",\"\",IFERROR(IF(OR($E$6=\"Rosario\",$E$6=\"Mendoza\",$E$6=\"Avellaneda\",$E$6=\"Recoleta\"),RIGHT('Finish Original'!E32,2),RIGHT('Finish Original'!E32,1)),\"\"))","v":""},{"$f":"IF('Finish Original'!B32=\"\",\"\",'Finish Original'!F32)","v":""}]
[{"$f":"IF('Start Original'!C33=\"\",\"\",'Start Original'!A33)","v":""},{"$f":"IF('Start Original'!D33=\"\",\"\",'Start Original'!B33)","v":""},{"$f":"IF('Start Original'!B33=\"\",\"\",'Start Original'!C33)","v":""},{"$f":"IF('Start Original'!B33=\"\",\"\",IFERROR(IF(OR($E$6=\"Rosario\",$E$6=\"Mendoza\",$E$6=\"Avellaneda\",$E$6=\"Recoleta\"),RIGHT('Start Original'!E33,2),RIGHT('Start Original'!E33,1)),\"\"))","v":""},{"$f":"IF('Start Original'!B33=\"\",\"\",'Start Original'!F33)","v":""},{"$f":"+'Start Original'!I33","v":0},null,{"$f":"IF('Finish Original'!B33=\"\",\"\",J40-I40)","v":""},{"$f":"IF('Finish Original'!B33=\"\",\"\",VLOOKUP(M40,Créditos!$A$8:$D$67,4,FALSE))","v":""},{"$f":"+'Finish Original'!A33","v":"00:00:00"},{"$f":"IF('Finish Original'!B33=\"\",\"\",'Finish Original'!C33)","v":""},{"$f":"IF('Finish Original'!B33=\"\",\"\",IFERROR(IF(OR($E$6=\"Rosario\",$E$6=\"Mendoza\",$E$6=\"Avellaneda\",$E$6=\"Recoleta\"),RIGHT('Finish Original'!E33,2),RIGHT('Finish Original'!E33,1)),\"\"))","v":""},{"$f":"IF('Finish Original'!B33=\"\",\"\",'Finish Original'!F33)","v":""}]
[{"$f":"IF('Start Original'!C34=\"\",\"\",'Start Original'!A34)","v":""},{"$f":"IF('Start Original'!D34=\"\",\"\",'Start Original'!B34)","v":""},{"$f":"IF('Start Original'!B34=\"\",\"\",'Start Original'!C34)","v":""},{"$f":"IF('Start Original'!B34=\"\",\"\",IFERROR(IF(OR($E$6=\"Rosario\",$E$6=\"Mendoza\",$E$6=\"Avellaneda\",$E$6=\"Recoleta\"),RIGHT('Start Original'!E34,2),RIGHT('Start Original'!E34,1)),\"\"))","v":""},{"$f":"IF('Start Original'!B34=\"\",\"\",'Start Original'!F34)","v":""},{"$f":"+'Start Original'!I34","v":0},null,{"$f":"IF('Finish Original'!B34=\"\",\"\",J41-I41)","v":""},{"$f":"IF('Finish Original'!B34=\"\",\"\",VLOOKUP(M41,Créditos!$A$8:$D$67,4,FALSE))","v":""},{"$f":"+'Finish Original'!A34","v":"00:00:00"},{"$f":"IF('Finish Original'!B34=\"\",\"\",'Finish Original'!C34)","v":""},{"$f":"IF('Finish Original'!B34=\"\",\"\",IFERROR(IF(OR($E$6=\"Rosario\",$E$6=\"Mendoza\",$E$6=\"Avellaneda\",$E$6=\"Recoleta\"),RIGHT('Finish Original'!E34,2),RIGHT('Finish Original'!E34,1)),\"\"))","v":""},{"$f":"IF('Finish Original'!B34=\"\",\"\",'Finish Original'!F34)","v":""}]
[{"$f":"IF('Start Original'!C35=\"\",\"\",'Start Original'!A35)","v":""},{"$f":"IF('Start Original'!D35=\"\",\"\",'Start Original'!B35)","v":""},{"$f":"IF('Start Original'!B35=\"\",\"\",'Start Original'!C35)","v":""},{"$f":"IF('Start Original'!B35=\"\",\"\",IFERROR(IF(OR($E$6=\"Rosario\",$E$6=\"Mendoza\",$E$6=\"Avellaneda\",$E$6=\"Recoleta\"),RIGHT('Start Original'!E35,2),RIGHT('Start Original'!E35,1)),\"\"))","v":""},{"$f":"IF('Start Original'!B35=\"\",\"\",'Start Original'!F35)","v":""},{"$f":"+'Start Original'!I35","v":0},null,{"$f":"IF('Finish Original'!B35=\"\",\"\",J42-I42)","v":""},{"$f":"IF('Finish Original'!B35=\"\",\"\",VLOOKUP(M42,Créditos!$A$8:$D$67,4,FALSE))","v":""},{"$f":"+'Finish Original'!A35","v":"00:00:00"},{"$f":"IF('Finish Original'!B35=\"\",\"\",'Finish Original'!C35)","v":""},{"$f":"IF('Finish Original'!B35=\"\",\"\",IFERROR(IF(OR($E$6=\"Rosario\",$E$6=\"Mendoza\",$E$6=\"Avellaneda\",$E$6=\"Recoleta\"),RIGHT('Finish Original'!E35,2),RIGHT('Finish Original'!E35,1)),\"\"))","v":""},{"$f":"IF('Finish Original'!B35=\"\",\"\",'Finish Original'!F35)","v":""}]
[{"$f":"IF('Start Original'!C36=\"\",\"\",'Start Original'!A36)","v":""},{"$f":"IF('Start Original'!D36=\"\",\"\",'Start Original'!B36)","v":""},{"$f":"IF('Start Original'!B36=\"\",\"\",'Start Original'!C36)","v":""},{"$f":"IF('Start Original'!B36=\"\",\"\",IFERROR(IF(OR($E$6=\"Rosario\",$E$6=\"Mendoza\",$E$6=\"Avellaneda\",$E$6=\"Recoleta\"),RIGHT('Start Original'!E36,2),RIGHT('Start Original'!E36,1)),\"\"))","v":""},{"$f":"IF('Start Original'!B36=\"\",\"\",'Start Original'!F36)","v":""},{"$f":"+'Start Original'!I36","v":0},null,{"$f":"IF('Finish Original'!B36=\"\",\"\",J43-I43)","v":""},{"$f":"IF('Finish Original'!B36=\"\",\"\",VLOOKUP(M43,Créditos!$A$8:$D$67,4,FALSE))","v":""},{"$f":"+'Finish Original'!A36","v":"00:00:00"},{"$f":"IF('Finish Original'!B36=\"\",\"\",'Finish Original'!C36)","v":""},{"$f":"IF('Finish Original'!B36=\"\",\"\",IFERROR(IF(OR($E$6=\"Rosario\",$E$6=\"Mendoza\",$E$6=\"Avellaneda\",$E$6=\"Recoleta\"),RIGHT('Finish Original'!E36,2),RIGHT('Finish Original'!E36,1)),\"\"))","v":""},{"$f":"IF('Finish Original'!B36=\"\",\"\",'Finish Original'!F36)","v":""}]
[{"$f":"IF('Start Original'!C37=\"\",\"\",'Start Original'!A37)","v":""},{"$f":"IF('Start Original'!D37=\"\",\"\",'Start Original'!B37)","v":""},{"$f":"IF('Start Original'!B37=\"\",\"\",'Start Original'!C37)","v":""},{"$f":"IF('Start Original'!B37=\"\",\"\",IFERROR(IF(OR($E$6=\"Rosario\",$E$6=\"Mendoza\",$E$6=\"Avellaneda\",$E$6=\"Recoleta\"),RIGHT('Start Original'!E37,2),RIGHT('Start Original'!E37,1)),\"\"))","v":""},{"$f":"IF('Start Original'!B37=\"\",\"\",'Start Original'!F37)","v":""},{"$f":"+'Start Original'!I37","v":0},null,{"$f":"IF('Finish Original'!B37=\"\",\"\",J44-I44)","v":""},{"$f":"IF('Finish Original'!B37=\"\",\"\",VLOOKUP(M44,Créditos!$A$8:$D$67,4,FALSE))","v":""},{"$f":"+'Finish Original'!A37","v":"00:00:00"},{"$f":"IF('Finish Original'!B37=\"\",\"\",'Finish Original'!C37)","v":""},{"$f":"IF('Finish Original'!B37=\"\",\"\",IFERROR(IF(OR($E$6=\"Rosario\",$E$6=\"Mendoza\",$E$6=\"Avellaneda\",$E$6=\"Recoleta\"),RIGHT('Finish Original'!E37,2),RIGHT('Finish Original'!E37,1)),\"\"))","v":""},{"$f":"IF('Finish Original'!B37=\"\",\"\",'Finish Original'!F37)","v":""}]
[{"$f":"IF('Start Original'!C38=\"\",\"\",'Start Original'!A38)","v":""},{"$f":"IF('Start Original'!D38=\"\",\"\",'Start Original'!B38)","v":""},{"$f":"IF('Start Original'!B38=\"\",\"\",'Start Original'!C38)","v":""},{"$f":"IF('Start Original'!B38=\"\",\"\",IFERROR(IF(OR($E$6=\"Rosario\",$E$6=\"Mendoza\",$E$6=\"Avellaneda\",$E$6=\"Recoleta\"),RIGHT('Start Original'!E38,2),RIGHT('Start Original'!E38,1)),\"\"))","v":""},{"$f":"IF('Start Original'!B38=\"\",\"\",'Start Original'!F38)","v":""},{"$f":"+'Start Original'!I38","v":0},null,{"$f":"IF('Finish Original'!B38=\"\",\"\",J45-I45)","v":""},{"$f":"IF('Finish Original'!B38=\"\",\"\",VLOOKUP(M45,Créditos!$A$8:$D$67,4,FALSE))","v":""},{"$f":"+'Finish Original'!A38","v":"00:00:00"},{"$f":"IF('Finish Original'!B38=\"\",\"\",'Finish Original'!C38)","v":""},{"$f":"IF('Finish Original'!B38=\"\",\"\",IFERROR(IF(OR($E$6=\"Rosario\",$E$6=\"Mendoza\",$E$6=\"Avellaneda\",$E$6=\"Recoleta\"),RIGHT('Finish Original'!E38,2),RIGHT('Finish Original'!E38,1)),\"\"))","v":""},{"$f":"IF('Finish Original'!B38=\"\",\"\",'Finish Original'!F38)","v":""}]
[{"$f":"IF('Start Original'!C39=\"\",\"\",'Start Original'!A39)","v":""},{"$f":"IF('Start Original'!D39=\"\",\"\",'Start Original'!B39)","v":""},{"$f":"IF('Start Original'!B39=\"\",\"\",'Start Original'!C39)","v":""},{"$f":"IF('Start Original'!B39=\"\",\"\",IFERROR(IF(OR($E$6=\"Rosario\",$E$6=\"Mendoza\",$E$6=\"Avellaneda\",$E$6=\"Recoleta\"),RIGHT('Start Original'!E39,2),RIGHT('Start Original'!E39,1)),\"\"))","v":""},{"$f":"IF('Start Original'!B39=\"\",\"\",'Start Original'!F39)","v":""},{"$f":"+'Start Original'!I39","v":0},null,{"$f":"IF('Finish Original'!B39=\"\",\"\",J46-I46)","v":""},{"$f":"IF('Finish Original'!B39=\"\",\"\",VLOOKUP(M46,Créditos!$A$8:$D$67,4,FALSE))","v":""},{"$f":"+'Finish Original'!A39","v":"00:00:00"},{"$f":"IF('Finish Original'!B39=\"\",\"\",'Finish Original'!C39)","v":""},{"$f":"IF('Finish Original'!B39=\"\",\"\",IFERROR(IF(OR($E$6=\"Rosario\",$E$6=\"Mendoza\",$E$6=\"Avellaneda\",$E$6=\"Recoleta\"),RIGHT('Finish Original'!E39,2),RIGHT('Finish Original'!E39,1)),\"\"))","v":""},{"$f":"IF('Finish Original'!B39=\"\",\"\",'Finish Original'!F39)","v":""}]
[{"$f":"IF('Start Original'!C40=\"\",\"\",'Start Original'!A40)","v":""},{"$f":"IF('Start Original'!D40=\"\",\"\",'Start Original'!B40)","v":""},{"$f":"IF('Start Original'!B40=\"\",\"\",'Start Original'!C40)","v":""},{"$f":"IF('Start Original'!B40=\"\",\"\",IFERROR(IF(OR($E$6=\"Rosario\",$E$6=\"Mendoza\",$E$6=\"Avellaneda\",$E$6=\"Recoleta\"),RIGHT('Start Original'!E40,2),RIGHT('Start Original'!E40,1)),\"\"))","v":""},{"$f":"IF('Start Original'!B40=\"\",\"\",'Start Original'!F40)","v":""},{"$f":"+'Start Original'!I40","v":0},null,{"$f":"IF('Finish Original'!B40=\"\",\"\",J47-I47)","v":""},{"$f":"IF('Finish Original'!B40=\"\",\"\",VLOOKUP(M47,Créditos!$A$8:$D$67,4,FALSE))","v":""},{"$f":"+'Finish Original'!A40","v":"00:00:00"},{"$f":"IF('Finish Original'!B40=\"\",\"\",'Finish Original'!C40)","v":""},{"$f":"IF('Finish Original'!B40=\"\",\"\",IFERROR(IF(OR($E$6=\"Rosario\",$E$6=\"Mendoza\",$E$6=\"Avellaneda\",$E$6=\"Recoleta\"),RIGHT('Finish Original'!E40,2),RIGHT('Finish Original'!E40,1)),\"\"))","v":""},{"$f":"IF('Finish Original'!B40=\"\",\"\",'Finish Original'!F40)","v":""}]
[{"$f":"IF('Start Original'!C41=\"\",\"\",'Start Original'!A41)","v":""},{"$f":"IF('Start Original'!D41=\"\",\"\",'Start Original'!B41)","v":""},{"$f":"IF('Start Original'!B41=\"\",\"\",'Start Original'!C41)","v":""},{"$f":"IF('Start Original'!B41=\"\",\"\",IFERROR(IF(OR($E$6=\"Rosario\",$E$6=\"Mendoza\",$E$6=\"Avellaneda\",$E$6=\"Recoleta\"),RIGHT('Start Original'!E41,2),RIGHT('Start Original'!E41,1)),\"\"))","v":""},{"$f":"IF('Start Original'!B41=\"\",\"\",'Start Original'!F41)","v":""},{"$f":"+'Start Original'!I41","v":0},null,{"$f":"IF('Finish Original'!B41=\"\",\"\",J48-I48)","v":""},{"$f":"IF('Finish Original'!B41=\"\",\"\",VLOOKUP(M48,Créditos!$A$8:$D$67,4,FALSE))","v":""},{"$f":"+'Finish Original'!A41","v":"00:00:00"},{"$f":"IF('Finish Original'!B41=\"\",\"\",'Finish Original'!C41)","v":""},{"$f":"IF('Finish Original'!B41=\"\",\"\",IFERROR(IF(OR($E$6=\"Rosario\",$E$6=\"Mendoza\",$E$6=\"Avellaneda\",$E$6=\"Recoleta\"),RIGHT('Finish Original'!E41,2),RIGHT('Finish Original'!E41,1)),\"\"))","v":""},{"$f":"IF('Finish Original'!B41=\"\",\"\",'Finish Original'!F41)","v":""}]
[{"$f":"IF('Start Original'!C42=\"\",\"\",'Start Original'!A42)","v":""},{"$f":"IF('Start Original'!D42=\"\",\"\",'Start Original'!B42)","v":""},{"$f":"IF('Start Original'!B42=\"\",\"\",'Start Original'!C42)","v":""},{"$f":"IF('Start Original'!B42=\"\",\"\",IFERROR(IF(OR($E$6=\"Rosario\",$E$6=\"Mendoza\",$E$6=\"Avellaneda\",$E$6=\"Recoleta\"),RIGHT('Start Original'!E42,2),RIGHT('Start Original'!E42,1)),\"\"))","v":""},{"$f":"IF('Start Original'!B42=\"\",\"\",'Start Original'!F42)","v":""},{"$f":"+'Start Original'!I42","v":0},null,{"$f":"IF('Finish Original'!B42=\"\",\"\",J49-I49)","v":""},{"$f":"IF('Finish Original'!B42=\"\",\"\",VLOOKUP(M49,Créditos!$A$8:$D$67,4,FALSE))","v":""},{"$f":"+'Finish Original'!A42","v":"00:00:00"},{"$f":"IF('Finish Original'!B42=\"\",\"\",'Finish Original'!C42)","v":""},{"$f":"IF('Finish Original'!B42=\"\",\"\",IFERROR(IF(OR($E$6=\"Rosario\",$E$6=\"Mendoza\",$E$6=\"Avellaneda\",$E$6=\"Recoleta\"),RIGHT('Finish Original'!E42,2),RIGHT('Finish Original'!E42,1)),\"\"))","v":""},{"$f":"IF('Finish Original'!B42=\"\",\"\",'Finish Original'!F42)","v":""}]
[{"$f":"IF('Start Original'!C43=\"\",\"\",'Start Original'!A43)","v":""},{"$f":"IF('Start Original'!D43=\"\",\"\",'Start Original'!B43)","v":""},{"$f":"IF('Start Original'!B43=\"\",\"\",'Start Original'!C43)","v":""},{"$f":"IF('Start Original'!B43=\"\",\"\",IFERROR(IF(OR($E$6=\"Rosario\",$E$6=\"Mendoza\",$E$6=\"Avellaneda\",$E$6=\"Recoleta\"),RIGHT('Start Original'!E43,2),RIGHT('Start Original'!E43,1)),\"\"))","v":""},{"$f":"IF('Start Original'!B43=\"\",\"\",'Start Original'!F43)","v":""},{"$f":"+'Start Original'!I43","v":0},null,{"$f":"IF('Finish Original'!B43=\"\",\"\",J50-I50)","v":""},{"$f":"IF('Finish Original'!B43=\"\",\"\",VLOOKUP(M50,Créditos!$A$8:$D$67,4,FALSE))","v":""},{"$f":"+'Finish Original'!A43","v":"00:00:00"},{"$f":"IF('Finish Original'!B43=\"\",\"\",'Finish Original'!C43)","v":""},{"$f":"IF('Finish Original'!B43=\"\",\"\",IFERROR(IF(OR($E$6=\"Rosario\",$E$6=\"Mendoza\",$E$6=\"Avellaneda\",$E$6=\"Recoleta\"),RIGHT('Finish Original'!E43,2),RIGHT('Finish Original'!E43,1)),\"\"))","v":""},{"$f":"IF('Finish Original'!B43=\"\",\"\",'Finish Original'!F43)","v":""}]
[{"$f":"IF('Start Original'!C44=\"\",\"\",'Start Original'!A44)","v":""},{"$f":"IF('Start Original'!D44=\"\",\"\",'Start Original'!B44)","v":""},{"$f":"IF('Start Original'!B44=\"\",\"\",'Start Original'!C44)","v":""},{"$f":"IF('Start Original'!B44=\"\",\"\",IFERROR(IF(OR($E$6=\"Rosario\",$E$6=\"Mendoza\",$E$6=\"Avellaneda\",$E$6=\"Recoleta\"),RIGHT('Start Original'!E44,2),RIGHT('Start Original'!E44,1)),\"\"))","v":""},{"$f":"IF('Start Original'!B44=\"\",\"\",'Start Original'!F44)","v":""},{"$f":"+'Start Original'!I44","v":0},null,{"$f":"IF('Finish Original'!B44=\"\",\"\",J51-I51)","v":""},{"$f":"IF('Finish Original'!B44=\"\",\"\",VLOOKUP(M51,Créditos!$A$8:$D$67,4,FALSE))","v":""},{"$f":"+'Finish Original'!A44","v":"00:00:00"},{"$f":"IF('Finish Original'!B44=\"\",\"\",'Finish Original'!C44)","v":""},{"$f":"IF('Finish Original'!B44=\"\",\"\",IFERROR(IF(OR($E$6=\"Rosario\",$E$6=\"Mendoza\",$E$6=\"Avellaneda\",$E$6=\"Recoleta\"),RIGHT('Finish Original'!E44,2),RIGHT('Finish Original'!E44,1)),\"\"))","v":""},{"$f":"IF('Finish Original'!B44=\"\",\"\",'Finish Original'!F44)","v":""}]
[{"$f":"IF('Start Original'!C45=\"\",\"\",'Start Original'!A45)","v":""},{"$f":"IF('Start Original'!D45=\"\",\"\",'Start Original'!B45)","v":""},{"$f":"IF('Start Original'!B45=\"\",\"\",'Start Original'!C45)","v":""},{"$f":"IF('Start Original'!B45=\"\",\"\",IFERROR(IF(OR($E$6=\"Rosario\",$E$6=\"Mendoza\",$E$6=\"Avellaneda\",$E$6=\"Recoleta\"),RIGHT('Start Original'!E45,2),RIGHT('Start Original'!E45,1)),\"\"))","v":""},{"$f":"IF('Start Original'!B45=\"\",\"\",'Start Original'!F45)","v":""},{"$f":"+'Start Original'!I45","v":0},null,{"$f":"IF('Finish Original'!B45=\"\",\"\",J52-I52)","v":""},{"$f":"IF('Finish Original'!B45=\"\",\"\",VLOOKUP(M52,Créditos!$A$8:$D$67,4,FALSE))","v":""},{"$f":"+'Finish Original'!A45","v":"00:00:00"},{"$f":"IF('Finish Original'!B45=\"\",\"\",'Finish Original'!C45)","v":""},{"$f":"IF('Finish Original'!B45=\"\",\"\",IFERROR(IF(OR($E$6=\"Rosario\",$E$6=\"Mendoza\",$E$6=\"Avellaneda\",$E$6=\"Recoleta\"),RIGHT('Finish Original'!E45,2),RIGHT('Finish Original'!E45,1)),\"\"))","v":""},{"$f":"IF('Finish Original'!B45=\"\",\"\",'Finish Original'!F45)","v":""}]
[{"$f":"IF('Start Original'!C46=\"\",\"\",'Start Original'!A46)","v":""},{"$f":"IF('Start Original'!D46=\"\",\"\",'Start Original'!B46)","v":""},{"$f":"IF('Start Original'!B46=\"\",\"\",'Start Original'!C46)","v":""},{"$f":"IF('Start Original'!B46=\"\",\"\",IFERROR(IF(OR($E$6=\"Rosario\",$E$6=\"Mendoza\",$E$6=\"Avellaneda\",$E$6=\"Recoleta\"),RIGHT('Start Original'!E46,2),RIGHT('Start Original'!E46,1)),\"\"))","v":""},{"$f":"IF('Start Original'!B46=\"\",\"\",'Start Original'!F46)","v":""},{"$f":"+'Start Original'!I46","v":0},null,{"$f":"IF('Finish Original'!B46=\"\",\"\",J53-I53)","v":""},{"$f":"IF('Finish Original'!B46=\"\",\"\",VLOOKUP(M53,Créditos!$A$8:$D$67,4,FALSE))","v":""},{"$f":"+'Finish Original'!A46","v":"00:00:00"},{"$f":"IF('Finish Original'!B46=\"\",\"\",'Finish Original'!C46)","v":""},{"$f":"IF('Finish Original'!B46=\"\",\"\",IFERROR(IF(OR($E$6=\"Rosario\",$E$6=\"Mendoza\",$E$6=\"Avellaneda\",$E$6=\"Recoleta\"),RIGHT('Finish Original'!E46,2),RIGHT('Finish Original'!E46,1)),\"\"))","v":""},{"$f":"IF('Finish Original'!B46=\"\",\"\",'Finish Original'!F46)","v":""}]
[{"$f":"IF('Start Original'!C47=\"\",\"\",'Start Original'!A47)","v":""},{"$f":"IF('Start Original'!D47=\"\",\"\",'Start Original'!B47)","v":""},{"$f":"IF('Start Original'!B47=\"\",\"\",'Start Original'!C47)","v":""},{"$f":"IF('Start Original'!B47=\"\",\"\",IFERROR(IF(OR($E$6=\"Rosario\",$E$6=\"Mendoza\",$E$6=\"Avellaneda\",$E$6=\"Recoleta\"),RIGHT('Start Original'!E47,2),RIGHT('Start Original'!E47,1)),\"\"))","v":""},{"$f":"IF('Start Original'!B47=\"\",\"\",'Start Original'!F47)","v":""},{"$f":"+'Start Original'!I47","v":0},null,{"$f":"IF('Finish Original'!B47=\"\",\"\",J54-I54)","v":""},{"$f":"IF('Finish Original'!B47=\"\",\"\",VLOOKUP(M54,Créditos!$A$8:$D$67,4,FALSE))","v":""},{"$f":"+'Finish Original'!A47","v":"00:00:00"},{"$f":"IF('Finish Original'!B47=\"\",\"\",'Finish Original'!C47)","v":""},{"$f":"IF('Finish Original'!B47=\"\",\"\",IFERROR(IF(OR($E$6=\"Rosario\",$E$6=\"Mendoza\",$E$6=\"Avellaneda\",$E$6=\"Recoleta\"),RIGHT('Finish Original'!E47,2),RIGHT('Finish Original'!E47,1)),\"\"))","v":""},{"$f":"IF('Finish Original'!B47=\"\",\"\",'Finish Original'!F47)","v":""}]
[{"$f":"IF('Start Original'!C48=\"\",\"\",'Start Original'!A48)","v":""},{"$f":"IF('Start Original'!D48=\"\",\"\",'Start Original'!B48)","v":""},{"$f":"IF('Start Original'!B48=\"\",\"\",'Start Original'!C48)","v":""},{"$f":"IF('Start Original'!B48=\"\",\"\",IFERROR(IF(OR($E$6=\"Rosario\",$E$6=\"Mendoza\",$E$6=\"Avellaneda\",$E$6=\"Recoleta\"),RIGHT('Start Original'!E48,2),RIGHT('Start Original'!E48,1)),\"\"))","v":""},{"$f":"IF('Start Original'!B48=\"\",\"\",'Start Original'!F48)","v":""},{"$f":"+'Start Original'!I48","v":0},null,{"$f":"IF('Finish Original'!B48=\"\",\"\",J55-I55)","v":""},{"$f":"IF('Finish Original'!B48=\"\",\"\",VLOOKUP(M55,Créditos!$A$8:$D$67,4,FALSE))","v":""},{"$f":"+'Finish Original'!A48","v":"00:00:00"},{"$f":"IF('Finish Original'!B48=\"\",\"\",'Finish Original'!C48)","v":""},{"$f":"IF('Finish Original'!B48=\"\",\"\",IFERROR(IF(OR($E$6=\"Rosario\",$E$6=\"Mendoza\",$E$6=\"Avellaneda\",$E$6=\"Recoleta\"),RIGHT('Finish Original'!E48,2),RIGHT('Finish Original'!E48,1)),\"\"))","v":""},{"$f":"IF('Finish Original'!B48=\"\",\"\",'Finish Original'!F48)","v":""}]
[{"$f":"IF('Start Original'!C49=\"\",\"\",'Start Original'!A49)","v":""},{"$f":"IF('Start Original'!D49=\"\",\"\",'Start Original'!B49)","v":""},{"$f":"IF('Start Original'!B49=\"\",\"\",'Start Original'!C49)","v":""},{"$f":"IF('Start Original'!B49=\"\",\"\",IFERROR(IF(OR($E$6=\"Rosario\",$E$6=\"Mendoza\",$E$6=\"Avellaneda\",$E$6=\"Recoleta\"),RIGHT('Start Original'!E49,2),RIGHT('Start Original'!E49,1)),\"\"))","v":""},{"$f":"IF('Start Original'!B49=\"\",\"\",'Start Original'!F49)","v":""},{"$f":"+'Start Original'!I49","v":0},null,{"$f":"IF('Finish Original'!B49=\"\",\"\",J56-I56)","v":""},{"$f":"IF('Finish Original'!B49=\"\",\"\",VLOOKUP(M56,Créditos!$A$8:$D$67,4,FALSE))","v":""},{"$f":"+'Finish Original'!A49","v":"00:00:00"},{"$f":"IF('Finish Original'!B49=\"\",\"\",'Finish Original'!C49)","v":""},{"$f":"IF('Finish Original'!B49=\"\",\"\",IFERROR(IF(OR($E$6=\"Rosario\",$E$6=\"Mendoza\",$E$6=\"Avellaneda\",$E$6=\"Recoleta\"),RIGHT('Finish Original'!E49,2),RIGHT('Finish Original'!E49,1)),\"\"))","v":""},{"$f":"IF('Finish Original'!B49=\"\",\"\",'Finish Original'!F49)","v":""}]
[{"$f":"IF('Start Original'!C50=\"\",\"\",'Start Original'!A50)","v":""},{"$f":"IF('Start Original'!D50=\"\",\"\",'Start Original'!B50)","v":""},{"$f":"IF('Start Original'!B50=\"\",\"\",'Start Original'!C50)","v":""},{"$f":"IF('Start Original'!B50=\"\",\"\",IFERROR(IF(OR($E$6=\"Rosario\",$E$6=\"Mendoza\",$E$6=\"Avellaneda\",$E$6=\"Recoleta\"),RIGHT('Start Original'!E50,2),RIGHT('Start Original'!E50,1)),\"\"))","v":""},{"$f":"IF('Start Original'!B50=\"\",\"\",'Start Original'!F50)","v":""},{"$f":"+'Start Original'!I50","v":0},null,{"$f":"IF('Finish Original'!B50=\"\",\"\",J57-I57)","v":""},{"$f":"IF('Finish Original'!B50=\"\",\"\",VLOOKUP(M57,Créditos!$A$8:$D$67,4,FALSE))","v":""},{"$f":"+'Finish Original'!A50","v":"00:00:00"},{"$f":"IF('Finish Original'!B50=\"\",\"\",'Finish Original'!C50)","v":""},{"$f":"IF('Finish Original'!B50=\"\",\"\",IFERROR(IF(OR($E$6=\"Rosario\",$E$6=\"Mendoza\",$E$6=\"Avellaneda\",$E$6=\"Recoleta\"),RIGHT('Finish Original'!E50,2),RIGHT('Finish Original'!E50,1)),\"\"))","v":""},{"$f":"IF('Finish Original'!B50=\"\",\"\",'Finish Original'!F50)","v":""}]
[{"$f":"IF('Start Original'!C51=\"\",\"\",'Start Original'!A51)","v":""},{"$f":"IF('Start Original'!D51=\"\",\"\",'Start Original'!B51)","v":""},{"$f":"IF('Start Original'!B51=\"\",\"\",'Start Original'!C51)","v":""},{"$f":"IF('Start Original'!B51=\"\",\"\",IFERROR(IF(OR($E$6=\"Rosario\",$E$6=\"Mendoza\",$E$6=\"Avellaneda\",$E$6=\"Recoleta\"),RIGHT('Start Original'!E51,2),RIGHT('Start Original'!E51,1)),\"\"))","v":""},{"$f":"IF('Start Original'!B51=\"\",\"\",'Start Original'!F51)","v":""},{"$f":"+'Start Original'!I51","v":0},null,{"$f":"IF('Finish Original'!B51=\"\",\"\",J58-I58)","v":""},{"$f":"IF('Finish Original'!B51=\"\",\"\",VLOOKUP(M58,Créditos!$A$8:$D$67,4,FALSE))","v":""},{"$f":"+'Finish Original'!A51","v":"00:00:00"},{"$f":"IF('Finish Original'!B51=\"\",\"\",'Finish Original'!C51)","v":""},{"$f":"IF('Finish Original'!B51=\"\",\"\",IFERROR(IF(OR($E$6=\"Rosario\",$E$6=\"Mendoza\",$E$6=\"Avellaneda\",$E$6=\"Recoleta\"),RIGHT('Finish Original'!E51,2),RIGHT('Finish Original'!E51,1)),\"\"))","v":""},{"$f":"IF('Finish Original'!B51=\"\",\"\",'Finish Original'!F51)","v":""}]
[{"$f":"IF('Start Original'!C52=\"\",\"\",'Start Original'!A52)","v":""},{"$f":"IF('Start Original'!D52=\"\",\"\",'Start Original'!B52)","v":""},{"$f":"IF('Start Original'!B52=\"\",\"\",'Start Original'!C52)","v":""},{"$f":"IF('Start Original'!B52=\"\",\"\",IFERROR(IF(OR($E$6=\"Rosario\",$E$6=\"Mendoza\",$E$6=\"Avellaneda\",$E$6=\"Recoleta\"),RIGHT('Start Original'!E52,2),RIGHT('Start Original'!E52,1)),\"\"))","v":""},{"$f":"IF('Start Original'!B52=\"\",\"\",'Start Original'!F52)","v":""},{"$f":"+'Start Original'!I52","v":0},null,{"$f":"IF('Finish Original'!B52=\"\",\"\",J59-I59)","v":""},{"$f":"IF('Finish Original'!B52=\"\",\"\",VLOOKUP(M59,Créditos!$A$8:$D$67,4,FALSE))","v":""},{"$f":"+'Finish Original'!A52","v":"00:00:00"},{"$f":"IF('Finish Original'!B52=\"\",\"\",'Finish Original'!C52)","v":""},{"$f":"IF('Finish Original'!B52=\"\",\"\",IFERROR(IF(OR($E$6=\"Rosario\",$E$6=\"Mendoza\",$E$6=\"Avellaneda\",$E$6=\"Recoleta\"),RIGHT('Finish Original'!E52,2),RIGHT('Finish Original'!E52,1)),\"\"))","v":""},{"$f":"IF('Finish Original'!B52=\"\",\"\",'Finish Original'!F52)","v":""}]
[{"$f":"IF('Start Original'!C53=\"\",\"\",'Start Original'!A53)","v":""},{"$f":"IF('Start Original'!D53=\"\",\"\",'Start Original'!B53)","v":""},{"$f":"IF('Start Original'!B53=\"\",\"\",'Start Original'!C53)","v":""},{"$f":"IF('Start Original'!B53=\"\",\"\",IFERROR(IF(OR($E$6=\"Rosario\",$E$6=\"Mendoza\",$E$6=\"Avellaneda\",$E$6=\"Recoleta\"),RIGHT('Start Original'!E53,2),RIGHT('Start Original'!E53,1)),\"\"))","v":""},{"$f":"IF('Start Original'!B53=\"\",\"\",'Start Original'!F53)","v":""},{"$f":"+'Start Original'!I53","v":0},null,{"$f":"IF('Finish Original'!B53=\"\",\"\",J60-I60)","v":""},{"$f":"IF('Finish Original'!B53=\"\",\"\",VLOOKUP(M60,Créditos!$A$8:$D$67,4,FALSE))","v":""},{"$f":"+'Finish Original'!A53","v":"00:00:00"},{"$f":"IF('Finish Original'!B53=\"\",\"\",'Finish Original'!C53)","v":""},{"$f":"IF('Finish Original'!B53=\"\",\"\",IFERROR(IF(OR($E$6=\"Rosario\",$E$6=\"Mendoza\",$E$6=\"Avellaneda\",$E$6=\"Recoleta\"),RIGHT('Finish Original'!E53,2),RIGHT('Finish Original'!E53,1)),\"\"))","v":""},{"$f":"IF('Finish Original'!B53=\"\",\"\",'Finish Original'!F53)","v":""}]
[{"$f":"IF('Start Original'!C54=\"\",\"\",'Start Original'!A54)","v":""},{"$f":"IF('Start Original'!D54=\"\",\"\",'Start Original'!B54)","v":""},{"$f":"IF('Start Original'!B54=\"\",\"\",'Start Original'!C54)","v":""},{"$f":"IF('Start Original'!B54=\"\",\"\",IFERROR(IF(OR($E$6=\"Rosario\",$E$6=\"Mendoza\",$E$6=\"Avellaneda\",$E$6=\"Recoleta\"),RIGHT('Start Original'!E54,2),RIGHT('Start Original'!E54,1)),\"\"))","v":""},{"$f":"IF('Start Original'!B54=\"\",\"\",'Start Original'!F54)","v":""},{"$f":"+'Start Original'!I54","v":0},null,{"$f":"IF('Finish Original'!B54=\"\",\"\",J61-I61)","v":""},{"$f":"IF('Finish Original'!B54=\"\",\"\",VLOOKUP(M61,Créditos!$A$8:$D$67,4,FALSE))","v":""},{"$f":"+'Finish Original'!A54","v":"00:00:00"},{"$f":"IF('Finish Original'!B54=\"\",\"\",'Finish Original'!C54)","v":""},{"$f":"IF('Finish Original'!B54=\"\",\"\",IFERROR(IF(OR($E$6=\"Rosario\",$E$6=\"Mendoza\",$E$6=\"Avellaneda\",$E$6=\"Recoleta\"),RIGHT('Finish Original'!E54,2),RIGHT('Finish Original'!E54,1)),\"\"))","v":""},{"$f":"IF('Finish Original'!B54=\"\",\"\",'Finish Original'!F54)","v":""}]
[{"$f":"IF('Start Original'!C55=\"\",\"\",'Start Original'!A55)","v":""},{"$f":"IF('Start Original'!D55=\"\",\"\",'Start Original'!B55)","v":""},{"$f":"IF('Start Original'!B55=\"\",\"\",'Start Original'!C55)","v":""},{"$f":"IF('Start Original'!B55=\"\",\"\",IFERROR(IF(OR($E$6=\"Rosario\",$E$6=\"Mendoza\",$E$6=\"Avellaneda\",$E$6=\"Recoleta\"),RIGHT('Start Original'!E55,2),RIGHT('Start Original'!E55,1)),\"\"))","v":""},{"$f":"IF('Start Original'!B55=\"\",\"\",'Start Original'!F55)","v":""},{"$f":"+'Start Original'!I55","v":0},null,{"$f":"IF('Finish Original'!B55=\"\",\"\",J62-I62)","v":""},{"$f":"IF('Finish Original'!B55=\"\",\"\",VLOOKUP(M62,Créditos!$A$8:$D$67,4,FALSE))","v":""},{"$f":"+'Finish Original'!A55","v":"00:00:00"},{"$f":"IF('Finish Original'!B55=\"\",\"\",'Finish Original'!C55)","v":""},{"$f":"IF('Finish Original'!B55=\"\",\"\",IFERROR(IF(OR($E$6=\"Rosario\",$E$6=\"Mendoza\",$E$6=\"Avellaneda\",$E$6=\"Recoleta\"),RIGHT('Finish Original'!E55,2),RIGHT('Finish Original'!E55,1)),\"\"))","v":""},{"$f":"IF('Finish Original'!B55=\"\",\"\",'Finish Original'!F55)","v":""}]
[{"$f":"IF('Start Original'!C56=\"\",\"\",'Start Original'!A56)","v":""},{"$f":"IF('Start Original'!D56=\"\",\"\",'Start Original'!B56)","v":""},{"$f":"IF('Start Original'!B56=\"\",\"\",'Start Original'!C56)","v":""},{"$f":"IF('Start Original'!B56=\"\",\"\",IFERROR(IF(OR($E$6=\"Rosario\",$E$6=\"Mendoza\",$E$6=\"Avellaneda\",$E$6=\"Recoleta\"),RIGHT('Start Original'!E56,2),RIGHT('Start Original'!E56,1)),\"\"))","v":""},{"$f":"IF('Start Original'!B56=\"\",\"\",'Start Original'!F56)","v":""},{"$f":"+'Start Original'!I56","v":0},null,{"$f":"IF('Finish Original'!B56=\"\",\"\",J63-I63)","v":""},{"$f":"IF('Finish Original'!B56=\"\",\"\",VLOOKUP(M63,Créditos!$A$8:$D$67,4,FALSE))","v":""},{"$f":"+'Finish Original'!A56","v":"00:00:00"},{"$f":"IF('Finish Original'!B56=\"\",\"\",'Finish Original'!C56)","v":""},{"$f":"IF('Finish Original'!B56=\"\",\"\",IFERROR(IF(OR($E$6=\"Rosario\",$E$6=\"Mendoza\",$E$6=\"Avellaneda\",$E$6=\"Recoleta\"),RIGHT('Finish Original'!E56,2),RIGHT('Finish Original'!E56,1)),\"\"))","v":""},{"$f":"IF('Finish Original'!B56=\"\",\"\",'Finish Original'!F56)","v":""}]
[{"$f":"IF('Start Original'!C57=\"\",\"\",'Start Original'!A57)","v":""},{"$f":"IF('Start Original'!D57=\"\",\"\",'Start Original'!B57)","v":""},{"$f":"IF('Start Original'!B57=\"\",\"\",'Start Original'!C57)","v":""},{"$f":"IF('Start Original'!B57=\"\",\"\",IFERROR(IF(OR($E$6=\"Rosario\",$E$6=\"Mendoza\",$E$6=\"Avellaneda\",$E$6=\"Recoleta\"),RIGHT('Start Original'!E57,2),RIGHT('Start Original'!E57,1)),\"\"))","v":""},{"$f":"IF('Start Original'!B57=\"\",\"\",'Start Original'!F57)","v":""},{"$f":"+'Start Original'!I57","v":0},null,{"$f":"IF('Finish Original'!B57=\"\",\"\",J64-I64)","v":""},{"$f":"IF('Finish Original'!B57=\"\",\"\",VLOOKUP(M64,Créditos!$A$8:$D$67,4,FALSE))","v":""},{"$f":"+'Finish Original'!A57","v":"00:00:00"},{"$f":"IF('Finish Original'!B57=\"\",\"\",'Finish Original'!C57)","v":""},{"$f":"IF('Finish Original'!B57=\"\",\"\",IFERROR(IF(OR($E$6=\"Rosario\",$E$6=\"Mendoza\",$E$6=\"Avellaneda\",$E$6=\"Recoleta\"),RIGHT('Finish Original'!E57,2),RIGHT('Finish Original'!E57,1)),\"\"))","v":""},{"$f":"IF('Finish Original'!B57=\"\",\"\",'Finish Original'!F57)","v":""}]
[{"$f":"IF('Start Original'!C58=\"\",\"\",'Start Original'!A58)","v":""},{"$f":"IF('Start Original'!D58=\"\",\"\",'Start Original'!B58)","v":""},{"$f":"IF('Start Original'!B58=\"\",\"\",'Start Original'!C58)","v":""},{"$f":"IF('Start Original'!B58=\"\",\"\",IFERROR(IF(OR($E$6=\"Rosario\",$E$6=\"Mendoza\",$E$6=\"Avellaneda\",$E$6=\"Recoleta\"),RIGHT('Start Original'!E58,2),RIGHT('Start Original'!E58,1)),\"\"))","v":""},{"$f":"IF('Start Original'!B58=\"\",\"\",'Start Original'!F58)","v":""},{"$f":"+'Start Original'!I58","v":0},null,{"$f":"IF('Finish Original'!B58=\"\",\"\",J65-I65)","v":""},{"$f":"IF('Finish Original'!B58=\"\",\"\",VLOOKUP(M65,Créditos!$A$8:$D$67,4,FALSE))","v":""},{"$f":"+'Finish Original'!A58","v":"00:00:00"},{"$f":"IF('Finish Original'!B58=\"\",\"\",'Finish Original'!C58)","v":""},{"$f":"IF('Finish Original'!B58=\"\",\"\",IFERROR(IF(OR($E$6=\"Rosario\",$E$6=\"Mendoza\",$E$6=\"Avellaneda\",$E$6=\"Recoleta\"),RIGHT('Finish Original'!E58,2),RIGHT('Finish Original'!E58,1)),\"\"))","v":""},{"$f":"IF('Finish Original'!B58=\"\",\"\",'Finish Original'!F58)","v":""}]
[{"$f":"IF('Start Original'!C59=\"\",\"\",'Start Original'!A59)","v":""},{"$f":"IF('Start Original'!D59=\"\",\"\",'Start Original'!B59)","v":""},{"$f":"IF('Start Original'!B59=\"\",\"\",'Start Original'!C59)","v":""},{"$f":"IF('Start Original'!B59=\"\",\"\",IFERROR(IF(OR($E$6=\"Rosario\",$E$6=\"Mendoza\",$E$6=\"Avellaneda\",$E$6=\"Recoleta\"),RIGHT('Start Original'!E59,2),RIGHT('Start Original'!E59,1)),\"\"))","v":""},{"$f":"IF('Start Original'!B59=\"\",\"\",'Start Original'!F59)","v":""},{"$f":"+'Start Original'!I59","v":0},null,{"$f":"IF('Finish Original'!B59=\"\",\"\",J66-I66)","v":""},{"$f":"IF('Finish Original'!B59=\"\",\"\",VLOOKUP(M66,Créditos!$A$8:$D$67,4,FALSE))","v":""},{"$f":"+'Finish Original'!A59","v":"00:00:00"},{"$f":"IF('Finish Original'!B59=\"\",\"\",'Finish Original'!C59)","v":""},{"$f":"IF('Finish Original'!B59=\"\",\"\",IFERROR(IF(OR($E$6=\"Rosario\",$E$6=\"Mendoza\",$E$6=\"Avellaneda\",$E$6=\"Recoleta\"),RIGHT('Finish Original'!E59,2),RIGHT('Finish Original'!E59,1)),\"\"))","v":""},{"$f":"IF('Finish Original'!B59=\"\",\"\",'Finish Original'!F59)","v":""}]
[{"$f":"IF('Start Original'!C60=\"\",\"\",'Start Original'!A60)","v":""},{"$f":"IF('Start Original'!D60=\"\",\"\",'Start Original'!B60)","v":""},{"$f":"IF('Start Original'!B60=\"\",\"\",'Start Original'!C60)","v":""},{"$f":"IF('Start Original'!B60=\"\",\"\",IFERROR(IF(OR($E$6=\"Rosario\",$E$6=\"Mendoza\",$E$6=\"Avellaneda\",$E$6=\"Recoleta\"),RIGHT('Start Original'!E60,2),RIGHT('Start Original'!E60,1)),\"\"))","v":""},{"$f":"IF('Start Original'!B60=\"\",\"\",'Start Original'!F60)","v":""},{"$f":"+'Start Original'!I60","v":0},null,{"$f":"IF('Finish Original'!B60=\"\",\"\",J67-I67)","v":""},{"$f":"IF('Finish Original'!B60=\"\",\"\",VLOOKUP(M67,Créditos!$A$8:$D$67,4,FALSE))","v":""},{"$f":"+'Finish Original'!A60","v":"00:00:00"},{"$f":"IF('Finish Original'!B60=\"\",\"\",'Finish Original'!C60)","v":""},{"$f":"IF('Finish Original'!B60=\"\",\"\",IFERROR(IF(OR($E$6=\"Rosario\",$E$6=\"Mendoza\",$E$6=\"Avellaneda\",$E$6=\"Recoleta\"),RIGHT('Finish Original'!E60,2),RIGHT('Finish Original'!E60,1)),\"\"))","v":""},{"$f":"IF('Finish Original'!B60=\"\",\"\",'Finish Original'!F60)","v":""}]
[{"$f":"IF('Start Original'!C61=\"\",\"\",'Start Original'!A61)","v":""},{"$f":"IF('Start Original'!D61=\"\",\"\",'Start Original'!B61)","v":""},{"$f":"IF('Start Original'!B61=\"\",\"\",'Start Original'!C61)","v":""},{"$f":"IF('Start Original'!B61=\"\",\"\",IFERROR(IF(OR($E$6=\"Rosario\",$E$6=\"Mendoza\",$E$6=\"Avellaneda\",$E$6=\"Recoleta\"),RIGHT('Start Original'!E61,2),RIGHT('Start Original'!E61,1)),\"\"))","v":""},{"$f":"IF('Start Original'!B61=\"\",\"\",'Start Original'!F61)","v":""},{"$f":"+'Start Original'!I61","v":0},null,{"$f":"IF('Finish Original'!B61=\"\",\"\",J68-I68)","v":""},{"$f":"IF('Finish Original'!B61=\"\",\"\",VLOOKUP(M68,Créditos!$A$8:$D$67,4,FALSE))","v":""},{"$f":"+'Finish Original'!A61","v":"00:00:00"},{"$f":"IF('Finish Original'!B61=\"\",\"\",'Finish Original'!C61)","v":""},{"$f":"IF('Finish Original'!B61=\"\",\"\",IFERROR(IF(OR($E$6=\"Rosario\",$E$6=\"Mendoza\",$E$6=\"Avellaneda\",$E$6=\"Recoleta\"),RIGHT('Finish Original'!E61,2),RIGHT('Finish Original'!E61,1)),\"\"))","v":""},{"$f":"IF('Finish Original'!B61=\"\",\"\",'Finish Original'!F61)","v":""}]
[{"$f":"IF('Start Original'!C62=\"\",\"\",'Start Original'!A62)","v":""},{"$f":"IF('Start Original'!D62=\"\",\"\",'Start Original'!B62)","v":""},{"$f":"IF('Start Original'!B62=\"\",\"\",'Start Original'!C62)","v":""},{"$f":"IF('Start Original'!B62=\"\",\"\",IFERROR(IF(OR($E$6=\"Rosario\",$E$6=\"Mendoza\",$E$6=\"Avellaneda\",$E$6=\"Recoleta\"),RIGHT('Start Original'!E62,2),RIGHT('Start Original'!E62,1)),\"\"))","v":""},{"$f":"IF('Start Original'!B62=\"\",\"\",'Start Original'!F62)","v":""},{"$f":"+'Start Original'!I62","v":0},null,{"$f":"IF('Finish Original'!B62=\"\",\"\",J69-I69)","v":""},{"$f":"IF('Finish Original'!B62=\"\",\"\",VLOOKUP(M69,Créditos!$A$8:$D$67,4,FALSE))","v":""},{"$f":"+'Finish Original'!A62","v":"00:00:00"},{"$f":"IF('Finish Original'!B62=\"\",\"\",'Finish Original'!C62)","v":""},{"$f":"IF('Finish Original'!B62=\"\",\"\",IFERROR(IF(OR($E$6=\"Rosario\",$E$6=\"Mendoza\",$E$6=\"Avellaneda\",$E$6=\"Recoleta\"),RIGHT('Finish Original'!E62,2),RIGHT('Finish Original'!E62,1)),\"\"))","v":""},{"$f":"IF('Finish Original'!B62=\"\",\"\",'Finish Original'!F62)","v":""}]
[{"$f":"IF('Start Original'!C63=\"\",\"\",'Start Original'!A63)","v":""},{"$f":"IF('Start Original'!D63=\"\",\"\",'Start Original'!B63)","v":""},{"$f":"IF('Start Original'!B63=\"\",\"\",'Start Original'!C63)","v":""},{"$f":"IF('Start Original'!B63=\"\",\"\",IFERROR(IF(OR($E$6=\"Rosario\",$E$6=\"Mendoza\",$E$6=\"Avellaneda\",$E$6=\"Recoleta\"),RIGHT('Start Original'!E63,2),RIGHT('Start Original'!E63,1)),\"\"))","v":""},{"$f":"IF('Start Original'!B63=\"\",\"\",'Start Original'!F63)","v":""},{"$f":"+'Start Original'!I63","v":0},null,{"$f":"IF('Finish Original'!B63=\"\",\"\",J70-I70)","v":""},{"$f":"IF('Finish Original'!B63=\"\",\"\",VLOOKUP(M70,Créditos!$A$8:$D$67,4,FALSE))","v":""},{"$f":"+'Finish Original'!A63","v":"00:00:00"},{"$f":"IF('Finish Original'!B63=\"\",\"\",'Finish Original'!C63)","v":""},{"$f":"IF('Finish Original'!B63=\"\",\"\",IFERROR(IF(OR($E$6=\"Rosario\",$E$6=\"Mendoza\",$E$6=\"Avellaneda\",$E$6=\"Recoleta\"),RIGHT('Finish Original'!E63,2),RIGHT('Finish Original'!E63,1)),\"\"))","v":""},{"$f":"IF('Finish Original'!B63=\"\",\"\",'Finish Original'!F63)","v":""}]
[{"$f":"IF('Start Original'!C64=\"\",\"\",'Start Original'!A64)","v":""},{"$f":"IF('Start Original'!D64=\"\",\"\",'Start Original'!B64)","v":""},{"$f":"IF('Start Original'!B64=\"\",\"\",'Start Original'!C64)","v":""},{"$f":"IF('Start Original'!B64=\"\",\"\",IFERROR(IF(OR($E$6=\"Rosario\",$E$6=\"Mendoza\",$E$6=\"Avellaneda\",$E$6=\"Recoleta\"),RIGHT('Start Original'!E64,2),RIGHT('Start Original'!E64,1)),\"\"))","v":""},{"$f":"IF('Start Original'!B64=\"\",\"\",'Start Original'!F64)","v":""},{"$f":"+'Start Original'!I64","v":0},null,{"$f":"IF('Finish Original'!B64=\"\",\"\",J71-I71)","v":""},{"$f":"IF('Finish Original'!B64=\"\",\"\",VLOOKUP(M71,Créditos!$A$8:$D$67,4,FALSE))","v":""},{"$f":"+'Finish Original'!A64","v":"00:00:00"},{"$f":"IF('Finish Original'!B64=\"\",\"\",'Finish Original'!C64)","v":""},{"$f":"IF('Finish Original'!B64=\"\",\"\",IFERROR(IF(OR($E$6=\"Rosario\",$E$6=\"Mendoza\",$E$6=\"Avellaneda\",$E$6=\"Recoleta\"),RIGHT('Finish Original'!E64,2),RIGHT('Finish Original'!E64,1)),\"\"))","v":""},{"$f":"IF('Finish Original'!B64=\"\",\"\",'Finish Original'!F64)","v":""}]
[{"$f":"IF('Start Original'!C65=\"\",\"\",'Start Original'!A65)","v":""},{"$f":"IF('Start Original'!D65=\"\",\"\",'Start Original'!B65)","v":""},{"$f":"IF('Start Original'!B65=\"\",\"\",'Start Original'!C65)","v":""},{"$f":"IF('Start Original'!B65=\"\",\"\",IFERROR(IF(OR($E$6=\"Rosario\",$E$6=\"Mendoza\",$E$6=\"Avellaneda\",$E$6=\"Recoleta\"),RIGHT('Start Original'!E65,2),RIGHT('Start Original'!E65,1)),\"\"))","v":""},{"$f":"IF('Start Original'!B65=\"\",\"\",'Start Original'!F65)","v":""},{"$f":"+'Start Original'!I65","v":0},null,{"$f":"IF('Finish Original'!B65=\"\",\"\",J72-I72)","v":""},{"$f":"IF('Finish Original'!B65=\"\",\"\",VLOOKUP(M72,Créditos!$A$8:$D$67,4,FALSE))","v":""},{"$f":"+'Finish Original'!A65","v":"00:00:00"},{"$f":"IF('Finish Original'!B65=\"\",\"\",'Finish Original'!C65)","v":""},{"$f":"IF('Finish Original'!B65=\"\",\"\",IFERROR(IF(OR($E$6=\"Rosario\",$E$6=\"Mendoza\",$E$6=\"Avellaneda\",$E$6=\"Recoleta\"),RIGHT('Finish Original'!E65,2),RIGHT('Finish Original'!E65,1)),\"\"))","v":""},{"$f":"IF('Finish Original'!B65=\"\",\"\",'Finish Original'!F65)","v":""}]
[{"$f":"IF('Start Original'!C66=\"\",\"\",'Start Original'!A66)","v":""},{"$f":"IF('Start Original'!D66=\"\",\"\",'Start Original'!B66)","v":""},{"$f":"IF('Start Original'!B66=\"\",\"\",'Start Original'!C66)","v":""},{"$f":"IF('Start Original'!B66=\"\",\"\",IFERROR(IF(OR($E$6=\"Rosario\",$E$6=\"Mendoza\",$E$6=\"Avellaneda\",$E$6=\"Recoleta\"),RIGHT('Start Original'!E66,2),RIGHT('Start Original'!E66,1)),\"\"))","v":""},{"$f":"IF('Start Original'!B66=\"\",\"\",'Start Original'!F66)","v":""},{"$f":"+'Start Original'!I66","v":0},null,{"$f":"IF('Finish Original'!B66=\"\",\"\",J73-I73)","v":""},{"$f":"IF('Finish Original'!B66=\"\",\"\",VLOOKUP(M73,Créditos!$A$8:$D$67,4,FALSE))","v":""},{"$f":"+'Finish Original'!A66","v":"00:00:00"},{"$f":"IF('Finish Original'!B66=\"\",\"\",'Finish Original'!C66)","v":""},{"$f":"IF('Finish Original'!B66=\"\",\"\",IFERROR(IF(OR($E$6=\"Rosario\",$E$6=\"Mendoza\",$E$6=\"Avellaneda\",$E$6=\"Recoleta\"),RIGHT('Finish Original'!E66,2),RIGHT('Finish Original'!E66,1)),\"\"))","v":""},{"$f":"IF('Finish Original'!B66=\"\",\"\",'Finish Original'!F66)","v":""}]
[{"$f":"IF('Start Original'!C67=\"\",\"\",'Start Original'!A67)","v":""},{"$f":"IF('Start Original'!D67=\"\",\"\",'Start Original'!B67)","v":""},{"$f":"IF('Start Original'!B67=\"\",\"\",'Start Original'!C67)","v":""},{"$f":"IF('Start Original'!B67=\"\",\"\",IFERROR(IF(OR($E$6=\"Rosario\",$E$6=\"Mendoza\",$E$6=\"Avellaneda\",$E$6=\"Recoleta\"),RIGHT('Start Original'!E67,2),RIGHT('Start Original'!E67,1)),\"\"))","v":""},{"$f":"IF('Start Original'!B67=\"\",\"\",'Start Original'!F67)","v":""},{"$f":"+'Start Original'!I67","v":0},null,{"$f":"IF('Finish Original'!B67=\"\",\"\",J74-I74)","v":""},{"$f":"IF('Finish Original'!B67=\"\",\"\",VLOOKUP(M74,Créditos!$A$8:$D$67,4,FALSE))","v":""},{"$f":"+'Finish Original'!A67","v":"00:00:00"},{"$f":"IF('Finish Original'!B67=\"\",\"\",'Finish Original'!C67)","v":""},{"$f":"IF('Finish Original'!B67=\"\",\"\",IFERROR(IF(OR($E$6=\"Rosario\",$E$6=\"Mendoza\",$E$6=\"Avellaneda\",$E$6=\"Recoleta\"),RIGHT('Finish Original'!E67,2),RIGHT('Finish Original'!E67,1)),\"\"))","v":""},{"$f":"IF('Finish Original'!B67=\"\",\"\",'Finish Original'!F67)","v":""}]
[{"$f":"IF('Start Original'!C68=\"\",\"\",'Start Original'!A68)","v":""},{"$f":"IF('Start Original'!D68=\"\",\"\",'Start Original'!B68)","v":""},{"$f":"IF('Start Original'!B68=\"\",\"\",'Start Original'!C68)","v":""},{"$f":"IF('Start Original'!B68=\"\",\"\",IFERROR(IF(OR($E$6=\"Rosario\",$E$6=\"Mendoza\",$E$6=\"Avellaneda\",$E$6=\"Recoleta\"),RIGHT('Start Original'!E68,2),RIGHT('Start Original'!E68,1)),\"\"))","v":""},{"$f":"IF('Start Original'!B68=\"\",\"\",'Start Original'!F68)","v":""},{"$f":"+'Start Original'!I68","v":0},null,{"$f":"IF('Finish Original'!B68=\"\",\"\",J75-I75)","v":""},{"$f":"IF('Finish Original'!B68=\"\",\"\",VLOOKUP(M75,Créditos!$A$8:$D$67,4,FALSE))","v":""},{"$f":"+'Finish Original'!A68","v":"00:00:00"},{"$f":"IF('Finish Original'!B68=\"\",\"\",'Finish Original'!C68)","v":""},{"$f":"IF('Finish Original'!B68=\"\",\"\",IFERROR(IF(OR($E$6=\"Rosario\",$E$6=\"Mendoza\",$E$6=\"Avellaneda\",$E$6=\"Recoleta\"),RIGHT('Finish Original'!E68,2),RIGHT('Finish Original'!E68,1)),\"\"))","v":""},{"$f":"IF('Finish Original'!B68=\"\",\"\",'Finish Original'!F68)","v":""}]
[{"$f":"IF('Start Original'!C69=\"\",\"\",'Start Original'!A69)","v":""},{"$f":"IF('Start Original'!D69=\"\",\"\",'Start Original'!B69)","v":""},{"$f":"IF('Start Original'!B69=\"\",\"\",'Start Original'!C69)","v":""},{"$f":"IF('Start Original'!B69=\"\",\"\",IFERROR(IF(OR($E$6=\"Rosario\",$E$6=\"Mendoza\",$E$6=\"Avellaneda\",$E$6=\"Recoleta\"),RIGHT('Start Original'!E69,2),RIGHT('Start Original'!E69,1)),\"\"))","v":""},{"$f":"IF('Start Original'!B69=\"\",\"\",'Start Original'!F69)","v":""},{"$f":"+'Start Original'!I69","v":0},null,{"$f":"IF('Finish Original'!B69=\"\",\"\",J76-I76)","v":""},{"$f":"IF('Finish Original'!B69=\"\",\"\",VLOOKUP(M76,Créditos!$A$8:$D$67,4,FALSE))","v":""},{"$f":"+'Finish Original'!A69","v":"00:00:00"},{"$f":"IF('Finish Original'!B69=\"\",\"\",'Finish Original'!C69)","v":""},{"$f":"IF('Finish Original'!B69=\"\",\"\",IFERROR(IF(OR($E$6=\"Rosario\",$E$6=\"Mendoza\",$E$6=\"Avellaneda\",$E$6=\"Recoleta\"),RIGHT('Finish Original'!E69,2),RIGHT('Finish Original'!E69,1)),\"\"))","v":""},{"$f":"IF('Finish Original'!B69=\"\",\"\",'Finish Original'!F69)","v":""}]
[{"$f":"IF('Start Original'!C70=\"\",\"\",'Start Original'!A70)","v":""},{"$f":"IF('Start Original'!D70=\"\",\"\",'Start Original'!B70)","v":""},{"$f":"IF('Start Original'!B70=\"\",\"\",'Start Original'!C70)","v":""},{"$f":"IF('Start Original'!B70=\"\",\"\",IFERROR(IF(OR($E$6=\"Rosario\",$E$6=\"Mendoza\",$E$6=\"Avellaneda\",$E$6=\"Recoleta\"),RIGHT('Start Original'!E70,2),RIGHT('Start Original'!E70,1)),\"\"))","v":""},{"$f":"IF('Start Original'!B70=\"\",\"\",'Start Original'!F70)","v":""},{"$f":"+'Start Original'!I70","v":0},null,{"$f":"IF('Finish Original'!B70=\"\",\"\",J77-I77)","v":""},{"$f":"IF('Finish Original'!B70=\"\",\"\",VLOOKUP(M77,Créditos!$A$8:$D$67,4,FALSE))","v":""},{"$f":"+'Finish Original'!A70","v":"00:00:00"},{"$f":"IF('Finish Original'!B70=\"\",\"\",'Finish Original'!C70)","v":""},{"$f":"IF('Finish Original'!B70=\"\",\"\",IFERROR(IF(OR($E$6=\"Rosario\",$E$6=\"Mendoza\",$E$6=\"Avellaneda\",$E$6=\"Recoleta\"),RIGHT('Finish Original'!E70,2),RIGHT('Finish Original'!E70,1)),\"\"))","v":""},{"$f":"IF('Finish Original'!B70=\"\",\"\",'Finish Original'!F70)","v":""}]
[{"$f":"IF('Start Original'!C71=\"\",\"\",'Start Original'!A71)","v":""},{"$f":"IF('Start Original'!D71=\"\",\"\",'Start Original'!B71)","v":""},{"$f":"IF('Start Original'!B71=\"\",\"\",'Start Original'!C71)","v":""},{"$f":"IF('Start Original'!B71=\"\",\"\",IFERROR(IF(OR($E$6=\"Rosario\",$E$6=\"Mendoza\",$E$6=\"Avellaneda\",$E$6=\"Recoleta\"),RIGHT('Start Original'!E71,2),RIGHT('Start Original'!E71,1)),\"\"))","v":""},{"$f":"IF('Start Original'!B71=\"\",\"\",'Start Original'!F71)","v":""},{"$f":"+'Start Original'!I71","v":0},null,{"$f":"IF('Finish Original'!B71=\"\",\"\",J78-I78)","v":""},{"$f":"IF('Finish Original'!B71=\"\",\"\",VLOOKUP(M78,Créditos!$A$8:$D$67,4,FALSE))","v":""},{"$f":"+'Finish Original'!A71","v":"00:00:00"},{"$f":"IF('Finish Original'!B71=\"\",\"\",'Finish Original'!C71)","v":""},{"$f":"IF('Finish Original'!B71=\"\",\"\",IFERROR(IF(OR($E$6=\"Rosario\",$E$6=\"Mendoza\",$E$6=\"Avellaneda\",$E$6=\"Recoleta\"),RIGHT('Finish Original'!E71,2),RIGHT('Finish Original'!E71,1)),\"\"))","v":""},{"$f":"IF('Finish Original'!B71=\"\",\"\",'Finish Original'!F71)","v":""}]
[{"$f":"IF('Start Original'!C72=\"\",\"\",'Start Original'!A72)","v":""},{"$f":"IF('Start Original'!D72=\"\",\"\",'Start Original'!B72)","v":""},{"$f":"IF('Start Original'!B72=\"\",\"\",'Start Original'!C72)","v":""},{"$f":"IF('Start Original'!B72=\"\",\"\",IFERROR(IF(OR($E$6=\"Rosario\",$E$6=\"Mendoza\",$E$6=\"Avellaneda\",$E$6=\"Recoleta\"),RIGHT('Start Original'!E72,2),RIGHT('Start Original'!E72,1)),\"\"))","v":""},{"$f":"IF('Start Original'!B72=\"\",\"\",'Start Original'!F72)","v":""},{"$f":"+'Start Original'!I72","v":0},null,{"$f":"IF('Finish Original'!B72=\"\",\"\",J79-I79)","v":""},{"$f":"IF('Finish Original'!B72=\"\",\"\",VLOOKUP(M79,Créditos!$A$8:$D$67,4,FALSE))","v":""},{"$f":"+'Finish Original'!A72","v":"00:00:00"},{"$f":"IF('Finish Original'!B72=\"\",\"\",'Finish Original'!C72)","v":""},{"$f":"IF('Finish Original'!B72=\"\",\"\",IFERROR(IF(OR($E$6=\"Rosario\",$E$6=\"Mendoza\",$E$6=\"Avellaneda\",$E$6=\"Recoleta\"),RIGHT('Finish Original'!E72,2),RIGHT('Finish Original'!E72,1)),\"\"))","v":""},{"$f":"IF('Finish Original'!B72=\"\",\"\",'Finish Original'!F72)","v":""}]
[{"$f":"IF('Start Original'!C73=\"\",\"\",'Start Original'!A73)","v":""},{"$f":"IF('Start Original'!D73=\"\",\"\",'Start Original'!B73)","v":""},{"$f":"IF('Start Original'!B73=\"\",\"\",'Start Original'!C73)","v":""},{"$f":"IF('Start Original'!B73=\"\",\"\",IFERROR(IF(OR($E$6=\"Rosario\",$E$6=\"Mendoza\",$E$6=\"Avellaneda\",$E$6=\"Recoleta\"),RIGHT('Start Original'!E73,2),RIGHT('Start Original'!E73,1)),\"\"))","v":""},{"$f":"IF('Start Original'!B73=\"\",\"\",'Start Original'!F73)","v":""},{"$f":"+'Start Original'!I73","v":0},null,{"$f":"IF('Finish Original'!B73=\"\",\"\",J80-I80)","v":""},{"$f":"IF('Finish Original'!B73=\"\",\"\",VLOOKUP(M80,Créditos!$A$8:$D$67,4,FALSE))","v":""},{"$f":"+'Finish Original'!A73","v":"00:00:00"},{"$f":"IF('Finish Original'!B73=\"\",\"\",'Finish Original'!C73)","v":""},{"$f":"IF('Finish Original'!B73=\"\",\"\",IFERROR(IF(OR($E$6=\"Rosario\",$E$6=\"Mendoza\",$E$6=\"Avellaneda\",$E$6=\"Recoleta\"),RIGHT('Finish Original'!E73,2),RIGHT('Finish Original'!E73,1)),\"\"))","v":""},{"$f":"IF('Finish Original'!B73=\"\",\"\",'Finish Original'!F73)","v":""}]
[{"$f":"IF('Start Original'!C74=\"\",\"\",'Start Original'!A74)","v":""},{"$f":"IF('Start Original'!D74=\"\",\"\",'Start Original'!B74)","v":""},{"$f":"IF('Start Original'!B74=\"\",\"\",'Start Original'!C74)","v":""},{"$f":"IF('Start Original'!B74=\"\",\"\",IFERROR(IF(OR($E$6=\"Rosario\",$E$6=\"Mendoza\",$E$6=\"Avellaneda\",$E$6=\"Recoleta\"),RIGHT('Start Original'!E74,2),RIGHT('Start Original'!E74,1)),\"\"))","v":""},{"$f":"IF('Start Original'!B74=\"\",\"\",'Start Original'!F74)","v":""},{"$f":"+'Start Original'!I74","v":0},null,{"$f":"IF('Finish Original'!B74=\"\",\"\",J81-I81)","v":""},{"$f":"IF('Finish Original'!B74=\"\",\"\",VLOOKUP(M81,Créditos!$A$8:$D$67,4,FALSE))","v":""},{"$f":"+'Finish Original'!A74","v":"00:00:00"},{"$f":"IF('Finish Original'!B74=\"\",\"\",'Finish Original'!C74)","v":""},{"$f":"IF('Finish Original'!B74=\"\",\"\",IFERROR(IF(OR($E$6=\"Rosario\",$E$6=\"Mendoza\",$E$6=\"Avellaneda\",$E$6=\"Recoleta\"),RIGHT('Finish Original'!E74,2),RIGHT('Finish Original'!E74,1)),\"\"))","v":""},{"$f":"IF('Finish Original'!B74=\"\",\"\",'Finish Original'!F74)","v":""}]
[{"$f":"IF('Start Original'!C75=\"\",\"\",'Start Original'!A75)","v":""},{"$f":"IF('Start Original'!D75=\"\",\"\",'Start Original'!B75)","v":""},{"$f":"IF('Start Original'!B75=\"\",\"\",'Start Original'!C75)","v":""},{"$f":"IF('Start Original'!B75=\"\",\"\",IFERROR(IF(OR($E$6=\"Rosario\",$E$6=\"Mendoza\",$E$6=\"Avellaneda\",$E$6=\"Recoleta\"),RIGHT('Start Original'!E75,2),RIGHT('Start Original'!E75,1)),\"\"))","v":""},{"$f":"IF('Start Original'!B75=\"\",\"\",'Start Original'!F75)","v":""},{"$f":"+'Start Original'!I75","v":0},null,{"$f":"IF('Finish Original'!B75=\"\",\"\",J82-I82)","v":""},{"$f":"IF('Finish Original'!B75=\"\",\"\",VLOOKUP(M82,Créditos!$A$8:$D$67,4,FALSE))","v":""},{"$f":"+'Finish Original'!A75","v":"00:00:00"},{"$f":"IF('Finish Original'!B75=\"\",\"\",'Finish Original'!C75)","v":""},{"$f":"IF('Finish Original'!B75=\"\",\"\",IFERROR(IF(OR($E$6=\"Rosario\",$E$6=\"Mendoza\",$E$6=\"Avellaneda\",$E$6=\"Recoleta\"),RIGHT('Finish Original'!E75,2),RIGHT('Finish Original'!E75,1)),\"\"))","v":""},{"$f":"IF('Finish Original'!B75=\"\",\"\",'Finish Original'!F75)","v":""}]
[{"$f":"IF('Start Original'!C76=\"\",\"\",'Start Original'!A76)","v":""},{"$f":"IF('Start Original'!D76=\"\",\"\",'Start Original'!B76)","v":""},{"$f":"IF('Start Original'!B76=\"\",\"\",'Start Original'!C76)","v":""},{"$f":"IF('Start Original'!B76=\"\",\"\",IFERROR(IF(OR($E$6=\"Rosario\",$E$6=\"Mendoza\",$E$6=\"Avellaneda\",$E$6=\"Recoleta\"),RIGHT('Start Original'!E76,2),RIGHT('Start Original'!E76,1)),\"\"))","v":""},{"$f":"IF('Start Original'!B76=\"\",\"\",'Start Original'!F76)","v":""},{"$f":"+'Start Original'!I76","v":0},null,{"$f":"IF('Finish Original'!B76=\"\",\"\",J83-I83)","v":""},{"$f":"IF('Finish Original'!B76=\"\",\"\",VLOOKUP(M83,Créditos!$A$8:$D$67,4,FALSE))","v":""},{"$f":"+'Finish Original'!A76","v":"00:00:00"},{"$f":"IF('Finish Original'!B76=\"\",\"\",'Finish Original'!C76)","v":""},{"$f":"IF('Finish Original'!B76=\"\",\"\",IFERROR(IF(OR($E$6=\"Rosario\",$E$6=\"Mendoza\",$E$6=\"Avellaneda\",$E$6=\"Recoleta\"),RIGHT('Finish Original'!E76,2),RIGHT('Finish Original'!E76,1)),\"\"))","v":""},{"$f":"IF('Finish Original'!B76=\"\",\"\",'Finish Original'!F76)","v":""}]
[{"$f":"IF('Start Original'!C77=\"\",\"\",'Start Original'!A77)","v":""},{"$f":"IF('Start Original'!D77=\"\",\"\",'Start Original'!B77)","v":""},{"$f":"IF('Start Original'!B77=\"\",\"\",'Start Original'!C77)","v":""},{"$f":"IF('Start Original'!B77=\"\",\"\",IFERROR(IF(OR($E$6=\"Rosario\",$E$6=\"Mendoza\",$E$6=\"Avellaneda\",$E$6=\"Recoleta\"),RIGHT('Start Original'!E77,2),RIGHT('Start Original'!E77,1)),\"\"))","v":""},{"$f":"IF('Start Original'!B77=\"\",\"\",'Start Original'!F77)","v":""},{"$f":"+'Start Original'!I77","v":0},null,{"$f":"IF('Finish Original'!B77=\"\",\"\",J84-I84)","v":""},{"$f":"IF('Finish Original'!B77=\"\",\"\",VLOOKUP(M84,Créditos!$A$8:$D$67,4,FALSE))","v":""},{"$f":"+'Finish Original'!A77","v":"00:00:00"},{"$f":"IF('Finish Original'!B77=\"\",\"\",'Finish Original'!C77)","v":""},{"$f":"IF('Finish Original'!B77=\"\",\"\",IFERROR(IF(OR($E$6=\"Rosario\",$E$6=\"Mendoza\",$E$6=\"Avellaneda\",$E$6=\"Recoleta\"),RIGHT('Finish Original'!E77,2),RIGHT('Finish Original'!E77,1)),\"\"))","v":""},{"$f":"IF('Finish Original'!B77=\"\",\"\",'Finish Original'!F77)","v":""}]
[{"$f":"IF('Start Original'!C78=\"\",\"\",'Start Original'!A78)","v":""},{"$f":"IF('Start Original'!D78=\"\",\"\",'Start Original'!B78)","v":""},{"$f":"IF('Start Original'!B78=\"\",\"\",'Start Original'!C78)","v":""},{"$f":"IF('Start Original'!B78=\"\",\"\",IFERROR(IF(OR($E$6=\"Rosario\",$E$6=\"Mendoza\",$E$6=\"Avellaneda\",$E$6=\"Recoleta\"),RIGHT('Start Original'!E78,2),RIGHT('Start Original'!E78,1)),\"\"))","v":""},{"$f":"IF('Start Original'!B78=\"\",\"\",'Start Original'!F78)","v":""},{"$f":"+'Start Original'!I78","v":0},null,{"$f":"IF('Finish Original'!B78=\"\",\"\",J85-I85)","v":""},{"$f":"IF('Finish Original'!B78=\"\",\"\",VLOOKUP(M85,Créditos!$A$8:$D$67,4,FALSE))","v":""},{"$f":"+'Finish Original'!A78","v":"00:00:00"},{"$f":"IF('Finish Original'!B78=\"\",\"\",'Finish Original'!C78)","v":""},{"$f":"IF('Finish Original'!B78=\"\",\"\",IFERROR(IF(OR($E$6=\"Rosario\",$E$6=\"Mendoza\",$E$6=\"Avellaneda\",$E$6=\"Recoleta\"),RIGHT('Finish Original'!E78,2),RIGHT('Finish Original'!E78,1)),\"\"))","v":""},{"$f":"IF('Finish Original'!B78=\"\",\"\",'Finish Original'!F78)","v":""}]
[{"$f":"IF('Start Original'!C79=\"\",\"\",'Start Original'!A79)","v":""},{"$f":"IF('Start Original'!D79=\"\",\"\",'Start Original'!B79)","v":""},{"$f":"IF('Start Original'!B79=\"\",\"\",'Start Original'!C79)","v":""},{"$f":"IF('Start Original'!B79=\"\",\"\",IFERROR(IF(OR($E$6=\"Rosario\",$E$6=\"Mendoza\",$E$6=\"Avellaneda\",$E$6=\"Recoleta\"),RIGHT('Start Original'!E79,2),RIGHT('Start Original'!E79,1)),\"\"))","v":""},{"$f":"IF('Start Original'!B79=\"\",\"\",'Start Original'!F79)","v":""},{"$f":"+'Start Original'!I79","v":0},null,{"$f":"IF('Finish Original'!B79=\"\",\"\",J86-I86)","v":""},{"$f":"IF('Finish Original'!B79=\"\",\"\",VLOOKUP(M86,Créditos!$A$8:$D$67,4,FALSE))","v":""},{"$f":"+'Finish Original'!A79","v":"00:00:00"},{"$f":"IF('Finish Original'!B79=\"\",\"\",'Finish Original'!C79)","v":""},{"$f":"IF('Finish Original'!B79=\"\",\"\",IFERROR(IF(OR($E$6=\"Rosario\",$E$6=\"Mendoza\",$E$6=\"Avellaneda\",$E$6=\"Recoleta\"),RIGHT('Finish Original'!E79,2),RIGHT('Finish Original'!E79,1)),\"\"))","v":""},{"$f":"IF('Finish Original'!B79=\"\",\"\",'Finish Original'!F79)","v":""}]
[{"$f":"IF('Start Original'!C80=\"\",\"\",'Start Original'!A80)","v":""},{"$f":"IF('Start Original'!D80=\"\",\"\",'Start Original'!B80)","v":""},{"$f":"IF('Start Original'!B80=\"\",\"\",'Start Original'!C80)","v":""},{"$f":"IF('Start Original'!B80=\"\",\"\",IFERROR(IF(OR($E$6=\"Rosario\",$E$6=\"Mendoza\",$E$6=\"Avellaneda\",$E$6=\"Recoleta\"),RIGHT('Start Original'!E80,2),RIGHT('Start Original'!E80,1)),\"\"))","v":""},{"$f":"IF('Start Original'!B80=\"\",\"\",'Start Original'!F80)","v":""},{"$f":"+'Start Original'!I80","v":0},null,{"$f":"IF('Finish Original'!B80=\"\",\"\",J87-I87)","v":""},{"$f":"IF('Finish Original'!B80=\"\",\"\",VLOOKUP(M87,Créditos!$A$8:$D$67,4,FALSE))","v":""},{"$f":"+'Finish Original'!A80","v":"00:00:00"},{"$f":"IF('Finish Original'!B80=\"\",\"\",'Finish Original'!C80)","v":""},{"$f":"IF('Finish Original'!B80=\"\",\"\",IFERROR(IF(OR($E$6=\"Rosario\",$E$6=\"Mendoza\",$E$6=\"Avellaneda\",$E$6=\"Recoleta\"),RIGHT('Finish Original'!E80,2),RIGHT('Finish Original'!E80,1)),\"\"))","v":""},{"$f":"IF('Finish Original'!B80=\"\",\"\",'Finish Original'!F80)","v":""}]
[{"$f":"IF('Start Original'!C81=\"\",\"\",'Start Original'!A81)","v":""},{"$f":"IF('Start Original'!D81=\"\",\"\",'Start Original'!B81)","v":""},{"$f":"IF('Start Original'!B81=\"\",\"\",'Start Original'!C81)","v":""},{"$f":"IF('Start Original'!B81=\"\",\"\",IFERROR(IF(OR($E$6=\"Rosario\",$E$6=\"Mendoza\",$E$6=\"Avellaneda\",$E$6=\"Recoleta\"),RIGHT('Start Original'!E81,2),RIGHT('Start Original'!E81,1)),\"\"))","v":""},{"$f":"IF('Start Original'!B81=\"\",\"\",'Start Original'!F81)","v":""},{"$f":"+'Start Original'!I81","v":0},null,{"$f":"IF('Finish Original'!B81=\"\",\"\",J88-I88)","v":""},{"$f":"IF('Finish Original'!B81=\"\",\"\",VLOOKUP(M88,Créditos!$A$8:$D$67,4,FALSE))","v":""},{"$f":"+'Finish Original'!A81","v":"00:00:00"},{"$f":"IF('Finish Original'!B81=\"\",\"\",'Finish Original'!C81)","v":""},{"$f":"IF('Finish Original'!B81=\"\",\"\",IFERROR(IF(OR($E$6=\"Rosario\",$E$6=\"Mendoza\",$E$6=\"Avellaneda\",$E$6=\"Recoleta\"),RIGHT('Finish Original'!E81,2),RIGHT('Finish Original'!E81,1)),\"\"))","v":""},{"$f":"IF('Finish Original'!B81=\"\",\"\",'Finish Original'!F81)","v":""}]
[{"$f":"IF('Start Original'!C82=\"\",\"\",'Start Original'!A82)","v":""},{"$f":"IF('Start Original'!D82=\"\",\"\",'Start Original'!B82)","v":""},{"$f":"IF('Start Original'!B82=\"\",\"\",'Start Original'!C82)","v":""},{"$f":"IF('Start Original'!B82=\"\",\"\",IFERROR(IF(OR($E$6=\"Rosario\",$E$6=\"Mendoza\",$E$6=\"Avellaneda\",$E$6=\"Recoleta\"),RIGHT('Start Original'!E82,2),RIGHT('Start Original'!E82,1)),\"\"))","v":""},{"$f":"IF('Start Original'!B82=\"\",\"\",'Start Original'!F82)","v":""},{"$f":"+'Start Original'!I82","v":0},null,{"$f":"IF('Finish Original'!B82=\"\",\"\",J89-I89)","v":""},{"$f":"IF('Finish Original'!B82=\"\",\"\",VLOOKUP(M89,Créditos!$A$8:$D$67,4,FALSE))","v":""},{"$f":"+'Finish Original'!A82","v":"00:00:00"},{"$f":"IF('Finish Original'!B82=\"\",\"\",'Finish Original'!C82)","v":""},{"$f":"IF('Finish Original'!B82=\"\",\"\",IFERROR(IF(OR($E$6=\"Rosario\",$E$6=\"Mendoza\",$E$6=\"Avellaneda\",$E$6=\"Recoleta\"),RIGHT('Finish Original'!E82,2),RIGHT('Finish Original'!E82,1)),\"\"))","v":""},{"$f":"IF('Finish Original'!B82=\"\",\"\",'Finish Original'!F82)","v":""}]
[{"$f":"IF('Start Original'!C83=\"\",\"\",'Start Original'!A83)","v":""},{"$f":"IF('Start Original'!D83=\"\",\"\",'Start Original'!B83)","v":""},{"$f":"IF('Start Original'!B83=\"\",\"\",'Start Original'!C83)","v":""},{"$f":"IF('Start Original'!B83=\"\",\"\",IFERROR(IF(OR($E$6=\"Rosario\",$E$6=\"Mendoza\",$E$6=\"Avellaneda\",$E$6=\"Recoleta\"),RIGHT('Start Original'!E83,2),RIGHT('Start Original'!E83,1)),\"\"))","v":""},{"$f":"IF('Start Original'!B83=\"\",\"\",'Start Original'!F83)","v":""},{"$f":"+'Start Original'!I83","v":0},null,{"$f":"IF('Finish Original'!B83=\"\",\"\",J90-I90)","v":""},{"$f":"IF('Finish Original'!B83=\"\",\"\",VLOOKUP(M90,Créditos!$A$8:$D$67,4,FALSE))","v":""},{"$f":"+'Finish Original'!A83","v":"00:00:00"},{"$f":"IF('Finish Original'!B83=\"\",\"\",'Finish Original'!C83)","v":""},{"$f":"IF('Finish Original'!B83=\"\",\"\",IFERROR(IF(OR($E$6=\"Rosario\",$E$6=\"Mendoza\",$E$6=\"Avellaneda\",$E$6=\"Recoleta\"),RIGHT('Finish Original'!E83,2),RIGHT('Finish Original'!E83,1)),\"\"))","v":""},{"$f":"IF('Finish Original'!B83=\"\",\"\",'Finish Original'!F83)","v":""}]
[{"$f":"IF('Start Original'!C84=\"\",\"\",'Start Original'!A84)","v":""},{"$f":"IF('Start Original'!D84=\"\",\"\",'Start Original'!B84)","v":""},{"$f":"IF('Start Original'!B84=\"\",\"\",'Start Original'!C84)","v":""},{"$f":"IF('Start Original'!B84=\"\",\"\",IFERROR(IF(OR($E$6=\"Rosario\",$E$6=\"Mendoza\",$E$6=\"Avellaneda\",$E$6=\"Recoleta\"),RIGHT('Start Original'!E84,2),RIGHT('Start Original'!E84,1)),\"\"))","v":""},{"$f":"IF('Start Original'!B84=\"\",\"\",'Start Original'!F84)","v":""},{"$f":"+'Start Original'!I84","v":0},null,{"$f":"IF('Finish Original'!B84=\"\",\"\",J91-I91)","v":""},{"$f":"IF('Finish Original'!B84=\"\",\"\",VLOOKUP(M91,Créditos!$A$8:$D$67,4,FALSE))","v":""},{"$f":"+'Finish Original'!A84","v":"00:00:00"},{"$f":"IF('Finish Original'!B84=\"\",\"\",'Finish Original'!C84)","v":""},{"$f":"IF('Finish Original'!B84=\"\",\"\",IFERROR(IF(OR($E$6=\"Rosario\",$E$6=\"Mendoza\",$E$6=\"Avellaneda\",$E$6=\"Recoleta\"),RIGHT('Finish Original'!E84,2),RIGHT('Finish Original'!E84,1)),\"\"))","v":""},{"$f":"IF('Finish Original'!B84=\"\",\"\",'Finish Original'!F84)","v":""}]
[{"$f":"IF('Start Original'!C85=\"\",\"\",'Start Original'!A85)","v":""},{"$f":"IF('Start Original'!D85=\"\",\"\",'Start Original'!B85)","v":""},{"$f":"IF('Start Original'!B85=\"\",\"\",'Start Original'!C85)","v":""},{"$f":"IF('Start Original'!B85=\"\",\"\",IFERROR(IF(OR($E$6=\"Rosario\",$E$6=\"Mendoza\",$E$6=\"Avellaneda\",$E$6=\"Recoleta\"),RIGHT('Start Original'!E85,2),RIGHT('Start Original'!E85,1)),\"\"))","v":""},{"$f":"IF('Start Original'!B85=\"\",\"\",'Start Original'!F85)","v":""},{"$f":"+'Start Original'!I85","v":0},null,{"$f":"IF('Finish Original'!B85=\"\",\"\",J92-I92)","v":""},{"$f":"IF('Finish Original'!B85=\"\",\"\",VLOOKUP(M92,Créditos!$A$8:$D$67,4,FALSE))","v":""},{"$f":"+'Finish Original'!A85","v":"00:00:00"},{"$f":"IF('Finish Original'!B85=\"\",\"\",'Finish Original'!C85)","v":""},{"$f":"IF('Finish Original'!B85=\"\",\"\",IFERROR(IF(OR($E$6=\"Rosario\",$E$6=\"Mendoza\",$E$6=\"Avellaneda\",$E$6=\"Recoleta\"),RIGHT('Finish Original'!E85,2),RIGHT('Finish Original'!E85,1)),\"\"))","v":""},{"$f":"IF('Finish Original'!B85=\"\",\"\",'Finish Original'!F85)","v":""}]
[{"$f":"IF('Start Original'!C86=\"\",\"\",'Start Original'!A86)","v":""},{"$f":"IF('Start Original'!D86=\"\",\"\",'Start Original'!B86)","v":""},{"$f":"IF('Start Original'!B86=\"\",\"\",'Start Original'!C86)","v":""},{"$f":"IF('Start Original'!B86=\"\",\"\",IFERROR(IF(OR($E$6=\"Rosario\",$E$6=\"Mendoza\",$E$6=\"Avellaneda\",$E$6=\"Recoleta\"),RIGHT('Start Original'!E86,2),RIGHT('Start Original'!E86,1)),\"\"))","v":""},{"$f":"IF('Start Original'!B86=\"\",\"\",'Start Original'!F86)","v":""},{"$f":"+'Start Original'!I86","v":0},null,{"$f":"IF('Finish Original'!B86=\"\",\"\",J93-I93)","v":""},{"$f":"IF('Finish Original'!B86=\"\",\"\",VLOOKUP(M93,Créditos!$A$8:$D$67,4,FALSE))","v":""},{"$f":"+'Finish Original'!A86","v":"00:00:00"},{"$f":"IF('Finish Original'!B86=\"\",\"\",'Finish Original'!C86)","v":""},{"$f":"IF('Finish Original'!B86=\"\",\"\",IFERROR(IF(OR($E$6=\"Rosario\",$E$6=\"Mendoza\",$E$6=\"Avellaneda\",$E$6=\"Recoleta\"),RIGHT('Finish Original'!E86,2),RIGHT('Finish Original'!E86,1)),\"\"))","v":""},{"$f":"IF('Finish Original'!B86=\"\",\"\",'Finish Original'!F86)","v":""}]
[{"$f":"IF('Start Original'!C87=\"\",\"\",'Start Original'!A87)","v":""},{"$f":"IF('Start Original'!D87=\"\",\"\",'Start Original'!B87)","v":""},{"$f":"IF('Start Original'!B87=\"\",\"\",'Start Original'!C87)","v":""},{"$f":"IF('Start Original'!B87=\"\",\"\",IFERROR(IF(OR($E$6=\"Rosario\",$E$6=\"Mendoza\",$E$6=\"Avellaneda\",$E$6=\"Recoleta\"),RIGHT('Start Original'!E87,2),RIGHT('Start Original'!E87,1)),\"\"))","v":""},{"$f":"IF('Start Original'!B87=\"\",\"\",'Start Original'!F87)","v":""},{"$f":"+'Start Original'!I87","v":0},null,{"$f":"IF('Finish Original'!B87=\"\",\"\",J94-I94)","v":""},{"$f":"IF('Finish Original'!B87=\"\",\"\",VLOOKUP(M94,Créditos!$A$8:$D$67,4,FALSE))","v":""},{"$f":"+'Finish Original'!A87","v":"00:00:00"},{"$f":"IF('Finish Original'!B87=\"\",\"\",'Finish Original'!C87)","v":""},{"$f":"IF('Finish Original'!B87=\"\",\"\",IFERROR(IF(OR($E$6=\"Rosario\",$E$6=\"Mendoza\",$E$6=\"Avellaneda\",$E$6=\"Recoleta\"),RIGHT('Finish Original'!E87,2),RIGHT('Finish Original'!E87,1)),\"\"))","v":""},{"$f":"IF('Finish Original'!B87=\"\",\"\",'Finish Original'!F87)","v":""}]
[{"$f":"IF('Start Original'!C88=\"\",\"\",'Start Original'!A88)","v":""},{"$f":"IF('Start Original'!D88=\"\",\"\",'Start Original'!B88)","v":""},{"$f":"IF('Start Original'!B88=\"\",\"\",'Start Original'!C88)","v":""},{"$f":"IF('Start Original'!B88=\"\",\"\",IFERROR(IF(OR($E$6=\"Rosario\",$E$6=\"Mendoza\",$E$6=\"Avellaneda\",$E$6=\"Recoleta\"),RIGHT('Start Original'!E88,2),RIGHT('Start Original'!E88,1)),\"\"))","v":""},{"$f":"IF('Start Original'!B88=\"\",\"\",'Start Original'!F88)","v":""},{"$f":"+'Start Original'!I88","v":0},null,{"$f":"IF('Finish Original'!B88=\"\",\"\",J95-I95)","v":""},{"$f":"IF('Finish Original'!B88=\"\",\"\",VLOOKUP(M95,Créditos!$A$8:$D$67,4,FALSE))","v":""},{"$f":"+'Finish Original'!A88","v":"00:00:00"},{"$f":"IF('Finish Original'!B88=\"\",\"\",'Finish Original'!C88)","v":""},{"$f":"IF('Finish Original'!B88=\"\",\"\",IFERROR(IF(OR($E$6=\"Rosario\",$E$6=\"Mendoza\",$E$6=\"Avellaneda\",$E$6=\"Recoleta\"),RIGHT('Finish Original'!E88,2),RIGHT('Finish Original'!E88,1)),\"\"))","v":""},{"$f":"IF('Finish Original'!B88=\"\",\"\",'Finish Original'!F88)","v":""}]
[{"$f":"IF('Start Original'!C89=\"\",\"\",'Start Original'!A89)","v":""},{"$f":"IF('Start Original'!D89=\"\",\"\",'Start Original'!B89)","v":""},{"$f":"IF('Start Original'!B89=\"\",\"\",'Start Original'!C89)","v":""},{"$f":"IF('Start Original'!B89=\"\",\"\",IFERROR(IF(OR($E$6=\"Rosario\",$E$6=\"Mendoza\",$E$6=\"Avellaneda\",$E$6=\"Recoleta\"),RIGHT('Start Original'!E89,2),RIGHT('Start Original'!E89,1)),\"\"))","v":""},{"$f":"IF('Start Original'!B89=\"\",\"\",'Start Original'!F89)","v":""},{"$f":"+'Start Original'!I89","v":0},null,{"$f":"IF('Finish Original'!B89=\"\",\"\",J96-I96)","v":""},{"$f":"IF('Finish Original'!B89=\"\",\"\",VLOOKUP(M96,Créditos!$A$8:$D$67,4,FALSE))","v":""},{"$f":"+'Finish Original'!A89","v":"00:00:00"},{"$f":"IF('Finish Original'!B89=\"\",\"\",'Finish Original'!C89)","v":""},{"$f":"IF('Finish Original'!B89=\"\",\"\",IFERROR(IF(OR($E$6=\"Rosario\",$E$6=\"Mendoza\",$E$6=\"Avellaneda\",$E$6=\"Recoleta\"),RIGHT('Finish Original'!E89,2),RIGHT('Finish Original'!E89,1)),\"\"))","v":""},{"$f":"IF('Finish Original'!B89=\"\",\"\",'Finish Original'!F89)","v":""}]
[{"$f":"IF('Start Original'!C90=\"\",\"\",'Start Original'!A90)","v":""},{"$f":"IF('Start Original'!D90=\"\",\"\",'Start Original'!B90)","v":""},{"$f":"IF('Start Original'!B90=\"\",\"\",'Start Original'!C90)","v":""},{"$f":"IF('Start Original'!B90=\"\",\"\",IFERROR(IF(OR($E$6=\"Rosario\",$E$6=\"Mendoza\",$E$6=\"Avellaneda\",$E$6=\"Recoleta\"),RIGHT('Start Original'!E90,2),RIGHT('Start Original'!E90,1)),\"\"))","v":""},{"$f":"IF('Start Original'!B90=\"\",\"\",'Start Original'!F90)","v":""},{"$f":"+'Start Original'!I90","v":0},null,{"$f":"IF('Finish Original'!B90=\"\",\"\",J97-I97)","v":""},{"$f":"IF('Finish Original'!B90=\"\",\"\",VLOOKUP(M97,Créditos!$A$8:$D$67,4,FALSE))","v":""},{"$f":"+'Finish Original'!A90","v":"00:00:00"},{"$f":"IF('Finish Original'!B90=\"\",\"\",'Finish Original'!C90)","v":""},{"$f":"IF('Finish Original'!B90=\"\",\"\",IFERROR(IF(OR($E$6=\"Rosario\",$E$6=\"Mendoza\",$E$6=\"Avellaneda\",$E$6=\"Recoleta\"),RIGHT('Finish Original'!E90,2),RIGHT('Finish Original'!E90,1)),\"\"))","v":""},{"$f":"IF('Finish Original'!B90=\"\",\"\",'Finish Original'!F90)","v":""}]
[{"$f":"IF('Start Original'!C91=\"\",\"\",'Start Original'!A91)","v":""},{"$f":"IF('Start Original'!D91=\"\",\"\",'Start Original'!B91)","v":""},{"$f":"IF('Start Original'!B91=\"\",\"\",'Start Original'!C91)","v":""},{"$f":"IF('Start Original'!B91=\"\",\"\",IFERROR(IF(OR($E$6=\"Rosario\",$E$6=\"Mendoza\",$E$6=\"Avellaneda\",$E$6=\"Recoleta\"),RIGHT('Start Original'!E91,2),RIGHT('Start Original'!E91,1)),\"\"))","v":""},{"$f":"IF('Start Original'!B91=\"\",\"\",'Start Original'!F91)","v":""},{"$f":"+'Start Original'!I91","v":0},null,{"$f":"IF('Finish Original'!B91=\"\",\"\",J98-I98)","v":""},{"$f":"IF('Finish Original'!B91=\"\",\"\",VLOOKUP(M98,Créditos!$A$8:$D$67,4,FALSE))","v":""},{"$f":"+'Finish Original'!A91","v":"00:00:00"},{"$f":"IF('Finish Original'!B91=\"\",\"\",'Finish Original'!C91)","v":""},{"$f":"IF('Finish Original'!B91=\"\",\"\",IFERROR(IF(OR($E$6=\"Rosario\",$E$6=\"Mendoza\",$E$6=\"Avellaneda\",$E$6=\"Recoleta\"),RIGHT('Finish Original'!E91,2),RIGHT('Finish Original'!E91,1)),\"\"))","v":""},{"$f":"IF('Finish Original'!B91=\"\",\"\",'Finish Original'!F91)","v":""}]
[{"$f":"IF('Start Original'!C92=\"\",\"\",'Start Original'!A92)","v":""},{"$f":"IF('Start Original'!D92=\"\",\"\",'Start Original'!B92)","v":""},{"$f":"IF('Start Original'!B92=\"\",\"\",'Start Original'!C92)","v":""},{"$f":"IF('Start Original'!B92=\"\",\"\",IFERROR(IF(OR($E$6=\"Rosario\",$E$6=\"Mendoza\",$E$6=\"Avellaneda\",$E$6=\"Recoleta\"),RIGHT('Start Original'!E92,2),RIGHT('Start Original'!E92,1)),\"\"))","v":""},{"$f":"IF('Start Original'!B92=\"\",\"\",'Start Original'!F92)","v":""},{"$f":"+'Start Original'!I92","v":0},null,{"$f":"IF('Finish Original'!B92=\"\",\"\",J99-I99)","v":""},{"$f":"IF('Finish Original'!B92=\"\",\"\",VLOOKUP(M99,Créditos!$A$8:$D$67,4,FALSE))","v":""},{"$f":"+'Finish Original'!A92","v":"00:00:00"},{"$f":"IF('Finish Original'!B92=\"\",\"\",'Finish Original'!C92)","v":""},{"$f":"IF('Finish Original'!B92=\"\",\"\",IFERROR(IF(OR($E$6=\"Rosario\",$E$6=\"Mendoza\",$E$6=\"Avellaneda\",$E$6=\"Recoleta\"),RIGHT('Finish Original'!E92,2),RIGHT('Finish Original'!E92,1)),\"\"))","v":""},{"$f":"IF('Finish Original'!B92=\"\",\"\",'Finish Original'!F92)","v":""}]
[{"$f":"IF('Start Original'!C93=\"\",\"\",'Start Original'!A93)","v":""},{"$f":"IF('Start Original'!D93=\"\",\"\",'Start Original'!B93)","v":""},{"$f":"IF('Start Original'!B93=\"\",\"\",'Start Original'!C93)","v":""},{"$f":"IF('Start Original'!B93=\"\",\"\",IFERROR(IF(OR($E$6=\"Rosario\",$E$6=\"Mendoza\",$E$6=\"Avellaneda\",$E$6=\"Recoleta\"),RIGHT('Start Original'!E93,2),RIGHT('Start Original'!E93,1)),\"\"))","v":""},{"$f":"IF('Start Original'!B93=\"\",\"\",'Start Original'!F93)","v":""},{"$f":"+'Start Original'!I93","v":0},null,{"$f":"IF('Finish Original'!B93=\"\",\"\",J100-I100)","v":""},{"$f":"IF('Finish Original'!B93=\"\",\"\",VLOOKUP(M100,Créditos!$A$8:$D$67,4,FALSE))","v":""},{"$f":"+'Finish Original'!A93","v":"00:00:00"},{"$f":"IF('Finish Original'!B93=\"\",\"\",'Finish Original'!C93)","v":""},{"$f":"IF('Finish Original'!B93=\"\",\"\",IFERROR(IF(OR($E$6=\"Rosario\",$E$6=\"Mendoza\",$E$6=\"Avellaneda\",$E$6=\"Recoleta\"),RIGHT('Finish Original'!E93,2),RIGHT('Finish Original'!E93,1)),\"\"))","v":""},{"$f":"IF('Finish Original'!B93=\"\",\"\",'Finish Original'!F93)","v":""}]
[{"$f":"IF('Start Original'!C94=\"\",\"\",'Start Original'!A94)","v":""},{"$f":"IF('Start Original'!D94=\"\",\"\",'Start Original'!B94)","v":""},{"$f":"IF('Start Original'!B94=\"\",\"\",'Start Original'!C94)","v":""},{"$f":"IF('Start Original'!B94=\"\",\"\",IFERROR(IF(OR($E$6=\"Rosario\",$E$6=\"Mendoza\",$E$6=\"Avellaneda\",$E$6=\"Recoleta\"),RIGHT('Start Original'!E94,2),RIGHT('Start Original'!E94,1)),\"\"))","v":""},{"$f":"IF('Start Original'!B94=\"\",\"\",'Start Original'!F94)","v":""},{"$f":"+'Start Original'!I94","v":0},null,{"$f":"IF('Finish Original'!B94=\"\",\"\",J101-I101)","v":""},{"$f":"IF('Finish Original'!B94=\"\",\"\",VLOOKUP(M101,Créditos!$A$8:$D$67,4,FALSE))","v":""},{"$f":"+'Finish Original'!A94","v":"00:00:00"},{"$f":"IF('Finish Original'!B94=\"\",\"\",'Finish Original'!C94)","v":""},{"$f":"IF('Finish Original'!B94=\"\",\"\",IFERROR(IF(OR($E$6=\"Rosario\",$E$6=\"Mendoza\",$E$6=\"Avellaneda\",$E$6=\"Recoleta\"),RIGHT('Finish Original'!E94,2),RIGHT('Finish Original'!E94,1)),\"\"))","v":""},{"$f":"IF('Finish Original'!B94=\"\",\"\",'Finish Original'!F94)","v":""}]
[{"$f":"IF('Start Original'!C95=\"\",\"\",'Start Original'!A95)","v":""},{"$f":"IF('Start Original'!D95=\"\",\"\",'Start Original'!B95)","v":""},{"$f":"IF('Start Original'!B95=\"\",\"\",'Start Original'!C95)","v":""},{"$f":"IF('Start Original'!B95=\"\",\"\",IFERROR(IF(OR($E$6=\"Rosario\",$E$6=\"Mendoza\",$E$6=\"Avellaneda\",$E$6=\"Recoleta\"),RIGHT('Start Original'!E95,2),RIGHT('Start Original'!E95,1)),\"\"))","v":""},{"$f":"IF('Start Original'!B95=\"\",\"\",'Start Original'!F95)","v":""},{"$f":"+'Start Original'!I95","v":0},null,{"$f":"IF('Finish Original'!B95=\"\",\"\",J102-I102)","v":""},{"$f":"IF('Finish Original'!B95=\"\",\"\",VLOOKUP(M102,Créditos!$A$8:$D$67,4,FALSE))","v":""},{"$f":"+'Finish Original'!A95","v":"00:00:00"},{"$f":"IF('Finish Original'!B95=\"\",\"\",'Finish Original'!C95)","v":""},{"$f":"IF('Finish Original'!B95=\"\",\"\",IFERROR(IF(OR($E$6=\"Rosario\",$E$6=\"Mendoza\",$E$6=\"Avellaneda\",$E$6=\"Recoleta\"),RIGHT('Finish Original'!E95,2),RIGHT('Finish Original'!E95,1)),\"\"))","v":""},{"$f":"IF('Finish Original'!B95=\"\",\"\",'Finish Original'!F95)","v":""}]
[{"$f":"IF('Start Original'!C96=\"\",\"\",'Start Original'!A96)","v":""},{"$f":"IF('Start Original'!D96=\"\",\"\",'Start Original'!B96)","v":""},{"$f":"IF('Start Original'!B96=\"\",\"\",'Start Original'!C96)","v":""},{"$f":"IF('Start Original'!B96=\"\",\"\",IFERROR(IF(OR($E$6=\"Rosario\",$E$6=\"Mendoza\",$E$6=\"Avellaneda\",$E$6=\"Recoleta\"),RIGHT('Start Original'!E96,2),RIGHT('Start Original'!E96,1)),\"\"))","v":""},{"$f":"IF('Start Original'!B96=\"\",\"\",'Start Original'!F96)","v":""},{"$f":"+'Start Original'!I96","v":0},null,{"$f":"IF('Finish Original'!B96=\"\",\"\",J103-I103)","v":""},{"$f":"IF('Finish Original'!B96=\"\",\"\",VLOOKUP(M103,Créditos!$A$8:$D$67,4,FALSE))","v":""},{"$f":"+'Finish Original'!A96","v":"00:00:00"},{"$f":"IF('Finish Original'!B96=\"\",\"\",'Finish Original'!C96)","v":""},{"$f":"IF('Finish Original'!B96=\"\",\"\",IFERROR(IF(OR($E$6=\"Rosario\",$E$6=\"Mendoza\",$E$6=\"Avellaneda\",$E$6=\"Recoleta\"),RIGHT('Finish Original'!E96,2),RIGHT('Finish Original'!E96,1)),\"\"))","v":""},{"$f":"IF('Finish Original'!B96=\"\",\"\",'Finish Original'!F96)","v":""}]
[{"$f":"IF('Start Original'!C97=\"\",\"\",'Start Original'!A97)","v":""},{"$f":"IF('Start Original'!D97=\"\",\"\",'Start Original'!B97)","v":""},{"$f":"IF('Start Original'!B97=\"\",\"\",'Start Original'!C97)","v":""},{"$f":"IF('Start Original'!B97=\"\",\"\",IFERROR(IF(OR($E$6=\"Rosario\",$E$6=\"Mendoza\",$E$6=\"Avellaneda\",$E$6=\"Recoleta\"),RIGHT('Start Original'!E97,2),RIGHT('Start Original'!E97,1)),\"\"))","v":""},{"$f":"IF('Start Original'!B97=\"\",\"\",'Start Original'!F97)","v":""},{"$f":"+'Start Original'!I97","v":0},null,{"$f":"IF('Finish Original'!B97=\"\",\"\",J104-I104)","v":""},{"$f":"IF('Finish Original'!B97=\"\",\"\",VLOOKUP(M104,Créditos!$A$8:$D$67,4,FALSE))","v":""},{"$f":"+'Finish Original'!A97","v":"00:00:00"},{"$f":"IF('Finish Original'!B97=\"\",\"\",'Finish Original'!C97)","v":""},{"$f":"IF('Finish Original'!B97=\"\",\"\",IFERROR(IF(OR($E$6=\"Rosario\",$E$6=\"Mendoza\",$E$6=\"Avellaneda\",$E$6=\"Recoleta\"),RIGHT('Finish Original'!E97,2),RIGHT('Finish Original'!E97,1)),\"\"))","v":""},{"$f":"IF('Finish Original'!B97=\"\",\"\",'Finish Original'!F97)","v":""}]
[{"$f":"IF('Start Original'!C98=\"\",\"\",'Start Original'!A98)","v":""},{"$f":"IF('Start Original'!D98=\"\",\"\",'Start Original'!B98)","v":""},{"$f":"IF('Start Original'!B98=\"\",\"\",'Start Original'!C98)","v":""},{"$f":"IF('Start Original'!B98=\"\",\"\",IFERROR(IF(OR($E$6=\"Rosario\",$E$6=\"Mendoza\",$E$6=\"Avellaneda\",$E$6=\"Recoleta\"),RIGHT('Start Original'!E98,2),RIGHT('Start Original'!E98,1)),\"\"))","v":""},{"$f":"IF('Start Original'!B98=\"\",\"\",'Start Original'!F98)","v":""},{"$f":"+'Start Original'!I98","v":0},null,{"$f":"IF('Finish Original'!B98=\"\",\"\",J105-I105)","v":""},{"$f":"IF('Finish Original'!B98=\"\",\"\",VLOOKUP(M105,Créditos!$A$8:$D$67,4,FALSE))","v":""},{"$f":"+'Finish Original'!A98","v":"00:00:00"},{"$f":"IF('Finish Original'!B98=\"\",\"\",'Finish Original'!C98)","v":""},{"$f":"IF('Finish Original'!B98=\"\",\"\",IFERROR(IF(OR($E$6=\"Rosario\",$E$6=\"Mendoza\",$E$6=\"Avellaneda\",$E$6=\"Recoleta\"),RIGHT('Finish Original'!E98,2),RIGHT('Finish Original'!E98,1)),\"\"))","v":""},{"$f":"IF('Finish Original'!B98=\"\",\"\",'Finish Original'!F98)","v":""}]
[{"$f":"IF('Start Original'!C99=\"\",\"\",'Start Original'!A99)","v":""},{"$f":"IF('Start Original'!D99=\"\",\"\",'Start Original'!B99)","v":""},{"$f":"IF('Start Original'!B99=\"\",\"\",'Start Original'!C99)","v":""},{"$f":"IF('Start Original'!B99=\"\",\"\",IFERROR(IF(OR($E$6=\"Rosario\",$E$6=\"Mendoza\",$E$6=\"Avellaneda\",$E$6=\"Recoleta\"),RIGHT('Start Original'!E99,2),RIGHT('Start Original'!E99,1)),\"\"))","v":""},{"$f":"IF('Start Original'!B99=\"\",\"\",'Start Original'!F99)","v":""},{"$f":"+'Start Original'!I99","v":0},null,{"$f":"IF('Finish Original'!B99=\"\",\"\",J106-I106)","v":""},{"$f":"IF('Finish Original'!B99=\"\",\"\",VLOOKUP(M106,Créditos!$A$8:$D$67,4,FALSE))","v":""},{"$f":"+'Finish Original'!A99","v":"00:00:00"},{"$f":"IF('Finish Original'!B99=\"\",\"\",'Finish Original'!C99)","v":""},{"$f":"IF('Finish Original'!B99=\"\",\"\",IFERROR(IF(OR($E$6=\"Rosario\",$E$6=\"Mendoza\",$E$6=\"Avellaneda\",$E$6=\"Recoleta\"),RIGHT('Finish Original'!E99,2),RIGHT('Finish Original'!E99,1)),\"\"))","v":""},{"$f":"IF('Finish Original'!B99=\"\",\"\",'Finish Original'!F99)","v":""}]
[{"$f":"IF('Start Original'!C100=\"\",\"\",'Start Original'!A100)","v":""},{"$f":"IF('Start Original'!D100=\"\",\"\",'Start Original'!B100)","v":""},{"$f":"IF('Start Original'!B100=\"\",\"\",'Start Original'!C100)","v":""},{"$f":"IF('Start Original'!B100=\"\",\"\",IFERROR(IF(OR($E$6=\"Rosario\",$E$6=\"Mendoza\",$E$6=\"Avellaneda\",$E$6=\"Recoleta\"),RIGHT('Start Original'!E100,2),RIGHT('Start Original'!E100,1)),\"\"))","v":""},{"$f":"IF('Start Original'!B100=\"\",\"\",'Start Original'!F100)","v":""},{"$f":"+'Start Original'!I100","v":0},null,{"$f":"IF('Finish Original'!B100=\"\",\"\",J107-I107)","v":""},{"$f":"IF('Finish Original'!B100=\"\",\"\",VLOOKUP(M107,Créditos!$A$8:$D$67,4,FALSE))","v":""},{"$f":"+'Finish Original'!A100","v":"00:00:00"},{"$f":"IF('Finish Original'!B100=\"\",\"\",'Finish Original'!C100)","v":""},{"$f":"IF('Finish Original'!B100=\"\",\"\",IFERROR(IF(OR($E$6=\"Rosario\",$E$6=\"Mendoza\",$E$6=\"Avellaneda\",$E$6=\"Recoleta\"),RIGHT('Finish Original'!E100,2),RIGHT('Finish Original'!E100,1)),\"\"))","v":""},{"$f":"IF('Finish Original'!B100=\"\",\"\",'Finish Original'!F100)","v":""}]
[{"$f":"IF('Start Original'!C101=\"\",\"\",'Start Original'!A101)","v":""},{"$f":"IF('Start Original'!D101=\"\",\"\",'Start Original'!B101)","v":""},{"$f":"IF('Start Original'!B101=\"\",\"\",'Start Original'!C101)","v":""},{"$f":"IF('Start Original'!B101=\"\",\"\",IFERROR(IF(OR($E$6=\"Rosario\",$E$6=\"Mendoza\",$E$6=\"Avellaneda\",$E$6=\"Recoleta\"),RIGHT('Start Original'!E101,2),RIGHT('Start Original'!E101,1)),\"\"))","v":""},{"$f":"IF('Start Original'!B101=\"\",\"\",'Start Original'!F101)","v":""},{"$f":"+'Start Original'!I101","v":0},null,{"$f":"IF('Finish Original'!B101=\"\",\"\",J108-I108)","v":""},{"$f":"IF('Finish Original'!B101=\"\",\"\",VLOOKUP(M108,Créditos!$A$8:$D$67,4,FALSE))","v":""},{"$f":"+'Finish Original'!A101","v":"00:00:00"},{"$f":"IF('Finish Original'!B101=\"\",\"\",'Finish Original'!C101)","v":""},{"$f":"IF('Finish Original'!B101=\"\",\"\",IFERROR(IF(OR($E$6=\"Rosario\",$E$6=\"Mendoza\",$E$6=\"Avellaneda\",$E$6=\"Recoleta\"),RIGHT('Finish Original'!E101,2),RIGHT('Finish Original'!E101,1)),\"\"))","v":""},{"$f":"IF('Finish Original'!B101=\"\",\"\",'Finish Original'!F101)","v":""}]
[{"$f":"IF('Start Original'!C102=\"\",\"\",'Start Original'!A102)","v":""},{"$f":"IF('Start Original'!D102=\"\",\"\",'Start Original'!B102)","v":""},{"$f":"IF('Start Original'!B102=\"\",\"\",'Start Original'!C102)","v":""},{"$f":"IF('Start Original'!B102=\"\",\"\",IFERROR(IF(OR($E$6=\"Rosario\",$E$6=\"Mendoza\",$E$6=\"Avellaneda\",$E$6=\"Recoleta\"),RIGHT('Start Original'!E102,2),RIGHT('Start Original'!E102,1)),\"\"))","v":""},{"$f":"IF('Start Original'!B102=\"\",\"\",'Start Original'!F102)","v":""},{"$f":"+'Start Original'!I102","v":0},null,{"$f":"IF('Finish Original'!B102=\"\",\"\",J109-I109)","v":""},{"$f":"IF('Finish Original'!B102=\"\",\"\",VLOOKUP(M109,Créditos!$A$8:$D$67,4,FALSE))","v":""},{"$f":"+'Finish Original'!A102","v":"00:00:00"},{"$f":"IF('Finish Original'!B102=\"\",\"\",'Finish Original'!C102)","v":""},{"$f":"IF('Finish Original'!B102=\"\",\"\",IFERROR(IF(OR($E$6=\"Rosario\",$E$6=\"Mendoza\",$E$6=\"Avellaneda\",$E$6=\"Recoleta\"),RIGHT('Finish Original'!E102,2),RIGHT('Finish Original'!E102,1)),\"\"))","v":""},{"$f":"IF('Finish Original'!B102=\"\",\"\",'Finish Original'!F102)","v":""}]
[{"$f":"IF('Start Original'!C103=\"\",\"\",'Start Original'!A103)","v":""},{"$f":"IF('Start Original'!D103=\"\",\"\",'Start Original'!B103)","v":""},{"$f":"IF('Start Original'!B103=\"\",\"\",'Start Original'!C103)","v":""},{"$f":"IF('Start Original'!B103=\"\",\"\",IFERROR(IF(OR($E$6=\"Rosario\",$E$6=\"Mendoza\",$E$6=\"Avellaneda\",$E$6=\"Recoleta\"),RIGHT('Start Original'!E103,2),RIGHT('Start Original'!E103,1)),\"\"))","v":""},{"$f":"IF('Start Original'!B103=\"\",\"\",'Start Original'!F103)","v":""},{"$f":"+'Start Original'!I103","v":0},null,{"$f":"IF('Finish Original'!B103=\"\",\"\",J110-I110)","v":""},{"$f":"IF('Finish Original'!B103=\"\",\"\",VLOOKUP(M110,Créditos!$A$8:$D$67,4,FALSE))","v":""},{"$f":"+'Finish Original'!A103","v":"00:00:00"},{"$f":"IF('Finish Original'!B103=\"\",\"\",'Finish Original'!C103)","v":""},{"$f":"IF('Finish Original'!B103=\"\",\"\",IFERROR(IF(OR($E$6=\"Rosario\",$E$6=\"Mendoza\",$E$6=\"Avellaneda\",$E$6=\"Recoleta\"),RIGHT('Finish Original'!E103,2),RIGHT('Finish Original'!E103,1)),\"\"))","v":""},{"$f":"IF('Finish Original'!B103=\"\",\"\",'Finish Original'!F103)","v":""}]
[{"$f":"IF('Start Original'!C104=\"\",\"\",'Start Original'!A104)","v":""},{"$f":"IF('Start Original'!D104=\"\",\"\",'Start Original'!B104)","v":""},{"$f":"IF('Start Original'!B104=\"\",\"\",'Start Original'!C104)","v":""},{"$f":"IF('Start Original'!B104=\"\",\"\",IFERROR(IF(OR($E$6=\"Rosario\",$E$6=\"Mendoza\",$E$6=\"Avellaneda\",$E$6=\"Recoleta\"),RIGHT('Start Original'!E104,2),RIGHT('Start Original'!E104,1)),\"\"))","v":""},{"$f":"IF('Start Original'!B104=\"\",\"\",'Start Original'!F104)","v":""},{"$f":"+'Start Original'!I104","v":0},null,{"$f":"IF('Finish Original'!B104=\"\",\"\",J111-I111)","v":""},{"$f":"IF('Finish Original'!B104=\"\",\"\",VLOOKUP(M111,Créditos!$A$8:$D$67,4,FALSE))","v":""},{"$f":"+'Finish Original'!A104","v":"00:00:00"},{"$f":"IF('Finish Original'!B104=\"\",\"\",'Finish Original'!C104)","v":""},{"$f":"IF('Finish Original'!B104=\"\",\"\",IFERROR(IF(OR($E$6=\"Rosario\",$E$6=\"Mendoza\",$E$6=\"Avellaneda\",$E$6=\"Recoleta\"),RIGHT('Finish Original'!E104,2),RIGHT('Finish Original'!E104,1)),\"\"))","v":""},{"$f":"IF('Finish Original'!B104=\"\",\"\",'Finish Original'!F104)","v":""}]
[{"$f":"IF('Start Original'!C105=\"\",\"\",'Start Original'!A105)","v":""},{"$f":"IF('Start Original'!D105=\"\",\"\",'Start Original'!B105)","v":""},{"$f":"IF('Start Original'!B105=\"\",\"\",'Start Original'!C105)","v":""},{"$f":"IF('Start Original'!B105=\"\",\"\",IFERROR(IF(OR($E$6=\"Rosario\",$E$6=\"Mendoza\",$E$6=\"Avellaneda\",$E$6=\"Recoleta\"),RIGHT('Start Original'!E105,2),RIGHT('Start Original'!E105,1)),\"\"))","v":""},{"$f":"IF('Start Original'!B105=\"\",\"\",'Start Original'!F105)","v":""},{"$f":"+'Start Original'!I105","v":0},null,{"$f":"IF('Finish Original'!B105=\"\",\"\",J112-I112)","v":""},{"$f":"IF('Finish Original'!B105=\"\",\"\",VLOOKUP(M112,Créditos!$A$8:$D$67,4,FALSE))","v":""},{"$f":"+'Finish Original'!A105","v":"00:00:00"},{"$f":"IF('Finish Original'!B105=\"\",\"\",'Finish Original'!C105)","v":""},{"$f":"IF('Finish Original'!B105=\"\",\"\",IFERROR(IF(OR($E$6=\"Rosario\",$E$6=\"Mendoza\",$E$6=\"Avellaneda\",$E$6=\"Recoleta\"),RIGHT('Finish Original'!E105,2),RIGHT('Finish Original'!E105,1)),\"\"))","v":""},{"$f":"IF('Finish Original'!B105=\"\",\"\",'Finish Original'!F105)","v":""}]
[{"$f":"IF('Start Original'!C106=\"\",\"\",'Start Original'!A106)","v":""},{"$f":"IF('Start Original'!D106=\"\",\"\",'Start Original'!B106)","v":""},{"$f":"IF('Start Original'!B106=\"\",\"\",'Start Original'!C106)","v":""},{"$f":"IF('Start Original'!B106=\"\",\"\",IFERROR(IF(OR($E$6=\"Rosario\",$E$6=\"Mendoza\",$E$6=\"Avellaneda\",$E$6=\"Recoleta\"),RIGHT('Start Original'!E106,2),RIGHT('Start Original'!E106,1)),\"\"))","v":""},{"$f":"IF('Start Original'!B106=\"\",\"\",'Start Original'!F106)","v":""},{"$f":"+'Start Original'!I106","v":0},null,{"$f":"IF('Finish Original'!B106=\"\",\"\",J113-I113)","v":""},{"$f":"IF('Finish Original'!B106=\"\",\"\",VLOOKUP(M113,Créditos!$A$8:$D$67,4,FALSE))","v":""},{"$f":"+'Finish Original'!A106","v":"00:00:00"},{"$f":"IF('Finish Original'!B106=\"\",\"\",'Finish Original'!C106)","v":""},{"$f":"IF('Finish Original'!B106=\"\",\"\",IFERROR(IF(OR($E$6=\"Rosario\",$E$6=\"Mendoza\",$E$6=\"Avellaneda\",$E$6=\"Recoleta\"),RIGHT('Finish Original'!E106,2),RIGHT('Finish Original'!E106,1)),\"\"))","v":""},{"$f":"IF('Finish Original'!B106=\"\",\"\",'Finish Original'!F106)","v":""}]
[{"$f":"IF('Start Original'!C107=\"\",\"\",'Start Original'!A107)","v":""},{"$f":"IF('Start Original'!D107=\"\",\"\",'Start Original'!B107)","v":""},{"$f":"IF('Start Original'!B107=\"\",\"\",'Start Original'!C107)","v":""},{"$f":"IF('Start Original'!B107=\"\",\"\",IFERROR(IF(OR($E$6=\"Rosario\",$E$6=\"Mendoza\",$E$6=\"Avellaneda\",$E$6=\"Recoleta\"),RIGHT('Start Original'!E107,2),RIGHT('Start Original'!E107,1)),\"\"))","v":""},{"$f":"IF('Start Original'!B107=\"\",\"\",'Start Original'!F107)","v":""},{"$f":"+'Start Original'!I107","v":0},null,{"$f":"IF('Finish Original'!B107=\"\",\"\",J114-I114)","v":""},{"$f":"IF('Finish Original'!B107=\"\",\"\",VLOOKUP(M114,Créditos!$A$8:$D$67,4,FALSE))","v":""},{"$f":"+'Finish Original'!A107","v":"00:00:00"},{"$f":"IF('Finish Original'!B107=\"\",\"\",'Finish Original'!C107)","v":""},{"$f":"IF('Finish Original'!B107=\"\",\"\",IFERROR(IF(OR($E$6=\"Rosario\",$E$6=\"Mendoza\",$E$6=\"Avellaneda\",$E$6=\"Recoleta\"),RIGHT('Finish Original'!E107,2),RIGHT('Finish Original'!E107,1)),\"\"))","v":""},{"$f":"IF('Finish Original'!B107=\"\",\"\",'Finish Original'!F107)","v":""}]

{"sheet":"Evacuación","index":4,"n_rows":59,"n_cols":20,"rows_kept":59,"cut":false,"hidden":false,"merged":[[57,3,57,4],[58,3,58,4],[51,3,51,4],[52,3,52,4],[54,3,54,4],[53,3,53,4],[45,3,45,4],[47,3,47,4],[48,3,48,4],[49,3,49,4],[56,3,56,4],[39,3,39,4],[40,3,40,4],[42,3,42,4],[43,3,43,4],[44,3,44,4],[34,3,34,4],[35,3,35,4],[36,3,36,4],[37,3,37,4],[38,3,38,4],[29,3,29,4],[30,3,30,4],[31,3,31,4],[32,3,32,4],[33,3,33,4],[24,3,24,4],[25,3,25,4],[26,3,26,4],[27,3,27,4],[28,3,28,4],[19,3,19,4],[20,3,20,4],[21,3,21,4],[22,3,22,4],[23,3,23,4],[56,0,58,0],[56,1,56,2],[57,1,57,2],[58,1,58,2],[51,0,54,0],[51,1,51,2],[52,1,52,2],[53,1,53,2],[54,1,54,2],[47,0,49,0],[47,1,47,2],[48,1,48,2],[49,1,49,2],[12,4,12,5],[13,4,13,5],[14,4,14,5],[15,4,15,5],[17,4,17,5],[19,0,40,0],[20,1,40,1],[42,0,45,0],[42,1,42,2],[43,1,43,2],[44,1,44,2],[45,1,45,2],[0,0,3,5],[16,4,16,5],[11,4,11,5],[7,3,7,5],[8,4,8,5],[9,4,9,5],[10,4,10,5]]}
["Responsabilidades de Evacuación",null,null,null,null,null,null,null,"Avellaneda","Avellaneda","Houssay","Luján","Maipú","Mendoza","Merlo","Neuquén","Pilar","Recoleta","Rosario","-"]
[null,null,null,null,null,null,null,null,"Houssay",1,1,1,1,1,1,1,1,1,1,"-"]
[null,null,null,null,null,null,null,null,"Luján",2,2,2,2,2,2,2,2,2,2,"-"]
[null,null,null,null,null,null,null,null,"Maipú",3,3,3,3,3,3,3,3,3,3,"-"]
[null,null,null,null,null,null,null,null,"Mendoza",4,4,4,4,4,4,4,4,4,4,"-"]
["Complejo:",{"$f":"+'Start y Finish'!E6","v":""},"Fecha:",{"$f":"+'Start y Finish'!M6","v":""},"Responsable:",null,null,null,"Merlo",5,"-",5,5,5,5,5,5,5,5,"-"]
[null,null,null,null,null,null,null,null,"Neuquén",6,"-",6,"-",6,6,6,6,6,6,"-"]
["Posición","Cargo","Nombre","Claves",null,null,null,null,"Pilar",7,"-","-","-",7,"-",7,7,7,7,"-"]
[1,"Gerente ",null,"Clave A","Radio que modula tiene prioridad",null,null,null,"Recoleta",8,"-","-","-",8,"-","-",8,8,8,"-"]
[2,"Subgerente ",null,"Código Blanco","No se observa anormalidad en lugar",null,null,null,"Rosario",10,"-","-","-",9,"-","-",9,9,9,"-"]
[3,"Manager",null,"Código Gris","Se observa humo",null,null,null,"-",11,"-","-","-",10,"-","-","-",10,10,"-"]
[4,"Floor",null,"Código Rojo","Se observa fuego",null,null,null,null,12,"-","-","-","-","-","-","-","-",11,"-"]
[5,"Floor",null,"Código Negro","Amenaza de elemento explosivo",null,null,null,null,13,"-","-","-","-","-","-","-","-",12,"-"]
[6,"Candy",null,"Código Azul","Se necesitan primeros auxilios",null,null,null,null,14,"-","-","-","-","-","-","-","-",14,"-"]
[7,"Candy",null,"Código Amarillo","Escape de gas",null,null,null,null,15,"-","-","-","-","-","-","-","-","-","-"]
[8,"Of calificado ",null,null,null,null,null,null,null,16,"-","-","-","-","-","-","-","-","-","-"]
[9,null,null,null,null,null,null,null,null,"-","-","-","-","-","-","-","-","-","-","-"]
[10]
[]
["Salas / Floor","Deberes","Sala/Área","Staff Floor AM",null,"Staff Floor PM"]
[null,"Evacuar siempre por las salidas de emergencia correspondientes",{"$f":"IFERROR(HLOOKUP($B$6,$J$1:$T$17,2,FALSE),\"\")","v":""}]
[null,null,{"$f":"IFERROR(HLOOKUP($B$6,$J$1:$T$17,3,FALSE),\"\")","v":""}]
[null,null,{"$f":"IFERROR(HLOOKUP($B$6,$J$1:$T$17,4,FALSE),\"\")","v":""}]
[null,null,{"$f":"IFERROR(HLOOKUP($B$6,$J$1:$T$17,5,FALSE),\"\")","v":""}]
[null,null,{"$f":"IFERROR(HLOOKUP($B$6,$J$1:$T$17,6,FALSE),\"\")","v":""}]
[null,null,{"$f":"IFERROR(HLOOKUP($B$6,$J$1:$T$17,7,FALSE),\"\")","v":""}]
[null,null,{"$f":"IFERROR(HLOOKUP($B$6,$J$1:$T$17,8,FALSE),\"\")","v":""}]
[null,null,{"$f":"IFERROR(HLOOKUP($B$6,$J$1:$T$17,9,FALSE),\"\")","v":""}]
[null,null,{"$f":"IFERROR(HLOOKUP($B$6,$J$1:$T$17,10,FALSE),\"\")","v":""}]
[null,null,{"$f":"IFERROR(HLOOKUP($B$6,$J$1:$T$17,11,FALSE),\"\")","v":""}]
[null,null,{"$f":"IFERROR(HLOOKUP($B$6,$J$1:$T$17,12,FALSE),\"\")","v":""}]
[null,null,{"$f":"IFERROR(HLOOKUP($B$6,$J$1:$T$17,13,FALSE),\"\")","v":""}]
[null,null,{"$f":"IFERROR(HLOOKUP($B$6,$J$1:$T$17,14,FALSE),\"\")","v":""}]
[null,null,{"$f":"IFERROR(HLOOKUP($B$6,$J$1:$T$17,15,FALSE),\"\")","v":""}]
[null,null,{"$f":"IFERROR(HLOOKUP($B$6,$J$1:$T$17,16,FALSE),\"\")","v":""}]
[null,null,{"$f":"IFERROR(HLOOKUP($B$6,$J$1:$T$17,17,FALSE),\"\")","v":""}]
[null,null,"Cuarto de empleados"]
[null,null,"Baños Hombres"]
[null,null,"Baños Mujeres"]
[null,null,"Baños Discapacitados"]
[null,null,"Sala de Proyección"]
[]
["Dulcería / Candy Bar ","Deberes",null,"Staff Candy AM",null,"Staff Candy PM"]
[null,"Apagado de máquinas"]
[null,"Cierre de cajones de dinero"]
[null,"Almacén de Dulcería / Candy Bar"]
[]
["Dulcería / Candy Bar (Satélite)","Deberes",null,"Staff Candy Sat. AM",null,"Staff Candy Sat. PM"]
[null,"Apagado de máquinas"]
[null,"Cierre de cajones de dinero"]
[]
["Boletería / Box","Deberes",null,"Staff Box AM",null,"Staff Box PM"]
[null,"Apagado de máquinas"]
[null,"Cierre de cajones de dinero"]
[null,"Lobby / Foyer planta baja"]
[]
["Oficina de Managers / Operaciones","Deberes",null,"Manager AM",null,"Manager PM"]
[null,"Apagado de máquinas"]
[null,"Cierre de Safe"]

{"sheet":"Calidad en Salas","index":5,"n_rows":31,"n_cols":15,"rows_kept":31,"cut":false,"hidden":false,"merged":[[30,2,30,4],[6,10,6,12],[27,10,27,12],[9,10,9,12],[30,10,30,12],[29,1,29,5],[29,9,29,13],[26,0,26,1],[26,2,26,5],[26,8,26,9],[26,10,26,13],[27,2,27,4],[23,0,24,5],[23,8,24,13],[2,0,3,5],[0,0,1,5],[0,8,1,13],[2,8,3,13],[21,0,22,5],[21,8,22,13],[5,8,5,9],[5,10,5,13],[5,0,5,1],[5,2,5,5],[8,1,8,5],[8,9,8,13],[9,2,9,4],[6,2,6,4]]}
["Formatos de Control de Salas\nAR-TRA-FT-FCS-03",null,null,null,null,null,null,null,"Formatos de Control de Salas\nAR-TRA-FT-FCS-03",null,null,null,null,null,"Avellaneda"]
[null,null,null,null,null,null,null,null,null,null,null,null,null,null,"Caballito"]
["Bitácora de Calidad en Salas",null,null,null,null,null,null,null,"Bitácora de Calidad en Salas",null,null,null,null,null,"Luján"]
[null,null,null,null,null,null,null,null,null,null,null,null,null,null,"Maipú"]
[null,null,null,null,null,null,null,null,null,null,null,null,null,null,"Mendoza"]
["Complejo:",null,{"$f":"+'Start y Finish'!E6","v":""},null,null,null,null,null,"Complejo:",null,{"$f":"+IF($C$6=\"\",\"\",$C$6)","v":""},null,null,null,"Merlo"]
["Fecha",null,"Sala",null,null,null,null,null,"Fecha",null,"Sala",null,null,null,"Neuquén"]
[null,null,null,null,null,null,null,null,null,null,null,null,null,null,"Pilar"]
[null,"Firma de responsable de verificación de calidad en salas",null,null,null,null,null,null,null,"Firma de responsable de verificación de calidad en salas"]
["Hora Función","Inicio","Medio",null,null,"Finalización",null,null,"Hora Función","Inicio","Medio",null,null,"Finalización","Recoleta"]
[null,null,null,null,null,null,null,null,null,null,null,null,null,null,"Rosario"]
[]
[]
[]
[]
[]
[]
[]
[]
[]
[]
["Formatos de Control de Salas\nAR-TRA-FT-FCS-03",null,null,null,null,null,null,null,"Formatos de Control de Salas\nAR-TRA-FT-FCS-03"]
[]
["Bitácora de Calidad en Salas",null,null,null,null,null,null,null,"Bitácora de Calidad en Salas"]
[]
[]
["Complejo:",null,{"$f":"+IF($C$6=\"\",\"\",$C$6)","v":""},null,null,null,null,null,"Complejo:",null,{"$f":"+IF($C$6=\"\",\"\",$C$6)","v":""}]
["Fecha",null,"Sala",null,null,null,null,null,"Fecha",null,"Sala"]
[]
[null,"Firma de responsable de verificación de calidad en salas",null,null,null,null,null,null,null,"Firma de responsable de verificación de calidad en salas"]
["Hora Función","Inicio","Medio",null,null,"Finalización",null,null,"Hora Función","Inicio","Medio",null,null,"Finalización"]

{"sheet":"Control de Número de Asistentes","index":6,"n_rows":14,"n_cols":7,"rows_kept":14,"cut":false,"hidden":false,"merged":[[11,0,11,6],[6,0,6,6],[7,0,7,6],[8,0,8,6],[9,0,9,6],[10,0,10,6],[0,0,0,6],[2,0,2,2],[4,0,4,6],[5,0,5,6],[2,3,2,6]]}
["Bitácora de Control de Número de Asistentes"]
[]
["Complejo:",null,null,{"$f":"+'Start y Finish'!E6","v":""}]
[]
["Instrucciones"]
["Aplicar esta bitácora diariamente en el 30% de las funciones. Podrá hacerse por el líder de cuadrilla, subgerente, gerente asistente o gerente de complejo siguiendo estos pasos:"]
["1. Colocar \"Fecha\" y \"Sala\" a revisar en las columnas correspondientes  (al culminar el día invalidar el siguiente renglón y utilizar el próximo al día siguiente)"]
["2. Anotar el horario de la función a revisar en la columna \"Horario\""]
["3. Anotar el número de \"Clientes Admitidos\" según la tablet de la urna (o según troqueles cortados, si aplica), 30 minutos después de iniciada la función"]
["4. Ingresar a la sala y contar el número de asistentes dentro de la sala 30 minutos después de iniciada la función y anotar en la columna \"Clientes Contados\""]
["5. Calcular y anotar la diferencia entre \"Clientes Contados\" y  los  \"Clientes Admitidos\" en la columna \"Diferencia Contados - Admitidos\""]
["6. El responsable del conteo del número de asistentes debe firmar en la columna \"Realizó Conteo\""]
[]
["Fecha","Sala","Horario","Clientes Admitidos","Clientes Contados","Diferencia\nContados-Admitidos","Realizó Conteo"]

{"sheet":"Firmas y Control documental","index":7,"n_rows":32,"n_cols":4,"rows_kept":32,"cut":false,"hidden":false,"merged":[[26,0,31,0],[26,1,26,2],[26,3,31,3],[27,1,27,2],[31,1,31,2],[28,1,28,2],[30,1,30,2],[29,1,29,2],[23,3,25,3],[7,0,7,3],[8,0,8,3],[9,0,9,3],[11,0,11,3],[13,0,13,1],[18,0,18,3],[25,1,25,2],[20,1,20,2],[21,1,21,2],[22,1,22,2],[23,0,25,0],[23,1,23,2],[24,1,24,2],[6,0,6,3],[1,0,1,3],[2,0,2,3],[3,0,3,3],[4,0,4,3],[5,0,5,3]]}
[]
["Revisión 03: 27 de enero de 2.022."]
["Cancela y sustituye: Documento \"Formatos de Control de Salas (Rev. 2)\", que contiene: Reporte de Inicio de Créditos AR-TRA-FT-RIC-02, Reporte Start y Finish AR-TRA-FT-RSF-02, Responsabilidades de Evacuación AR-TRA-FT-REV-02, Bitácora de Calidad en Salas AR-TRA-FT-BCS-02 y Bitácora de Control de Número de Asistentes y Calidad en Salas AR-TRA-FT-CAS-02, publicado el 26 de agosto de 2.021."]
[]
["SUS.Scanton US"]
["Cláusula de Confidencialidad"]
["Este documento y sus anexos contienen información estratégica de negocio, secretos comerciales y en general el know-how de KTR, LLC (“KTR”) y sus empresas filiales, derivados de experiencias comerciales y programas de investigación y desarrollo que han sido compilados para uso exclusivo de empresas filiales con el objetivo de asegurar e incrementar la rentabilidad y beneficio de KTR a largo plazo. El contenido de este documento y sus anexos es estrictamente confidencial y para el uso exclusivo de sus destinatarios."]
["En este documento y sus anexos tendrá la consideración de “Información Confidencial” toda documentación e información (de tipo económico, financiero, técnico, comercial, estratégico o de otro tipo) proporcionada mediante cualquier forma o medio (oral, escrita o en cualquier soporte) y en cualquier momento, ya sea con anterioridad o posterioridad a la fecha de este documento o sus anexos, que no esté disponible públicamente relativa a KTR o a cualquier sociedad filial y/o persona relacionada con las mismas, incluyendo, sin limitación, información científica, técnica o arquitectónica; información relativa al negocio actual o futuro, experiencia comercial y planes de comercialización, incluyendo, pero no limitada a, información financiera, términos contractuales o información y datos de clientes, diseños, dibujos, programas de computadora y software; costos e información de precios e identificación de personal u otros recursos para su posible uso comercial. En particular, será Información Confidencial toda documentación e información (i) marcada como tal; (ii) identificada por KTR o su personal, ya sea verbal o escrito, como Información Confidencial; (iii) que tenga valor comercial); (iv) que no sea conocida a nivel general en el mercado o la industria; o (v) que por su naturaleza o por las circunstancias en que se produzca la revelación, deba de buena fe estimarse como tal."]
["Los destinatarios de este documento y sus anexos se obligan a tratar en todo momento la Información Confidencial como secreta y confidencial, por tanto, no comunicarla ni revelarla directa o indirectamente, (verbal o escrita) a persona física o jurídica ajena a KTR sin que medie previa aprobación por escrito de KTR. La revelación, distribución, transmisión electrónica o copia de la Información Confidencial queda estrictamente prohibida. Los destinatarios de este documento y sus anexos acuerdan no duplicar, distribuir o revelar su contenido a través de ningún medio."]
[]
[]
["AUTORIZACIONES Y FIRMAS"]
[]
["NOMBRE",null,"PUESTO","RÚBRICA"]
["Elaboró","Rafael Moros","Consultor Jr. de Procesos Scanton"]
["V.° B.°","Inés Trementino","Gerente de Operaciones Cinépolis Argentna"]
["Autorizó","Iván Hurtado Santoyo","Gerente General Scanton"]
[]
["TABLA DE CAMBIOS"]
[]
["Revisión","Descripción de cambios",null,"Fecha"]
[0,"1. Documento Original. ",null,"2019-10-23"]
[1,"1. Actualización de Marca, eliminando logo Village Cines y Actualizando logo Cinépolis y tipografía TT Norms",null,"2019-12-31"]
[2,"1. Actualización de formato por Plantilla MPX INT 2019, de Scanton",null,"2021-08-26"]
[null,"2. Inclusión de Cláusula de Confidencialidad de KTR, LLC (“KTR”), Autorizaciones y Firmas y Tabla de Cambios"]
[null,"3. Eliminación de sección de Spyral del formato \"Responsabilidades de Evacuación\""]
[3,"1. En la Bitácora de Calidad en Salas se incorporan dos campos para las revisiones en medio de la función, quedando un campo para el inicio, tres en medio, y uno en cierre",null,"2022-01-27"]
[null,"2. Se elimina el control de calidad en salas de la Bitácora de Control de Número de Asistentes y Calidad en Salas, quedando esta bitácora únicamente como Control de Número de Asistentes"]
[null,"3. En la Bitácora de Control de Número de Asistentes se elimina la comparación entre boletos vendidos y clientes contados. Sólo se comparará clientes admitidos vs. contados"]
[null,"4. En la Bitácora de Control de Número de Asistentes se elimina la fecha del encabezado, y ubicando una columna para que se puedan colocar las fechas de los controles."]
[null,"5. En la Bitácora de Control de Número de Asistentes se  incorpora la lectura de admitidos desde tablet."]
[null,"6. Se recodifica el documento, dejando un único código y un único título para el mismo y manteniendo el subtitulo de cada solapa."]